BEGIN:VCALENDAR
VERSION:2.0
PRODID:-//Infidels Jazz - ECPv6.15.12.2//NONSGML v1.0//EN
CALSCALE:GREGORIAN
METHOD:PUBLISH
X-ORIGINAL-URL:https://theinfidelsjazz.ca
X-WR-CALDESC:Events for Infidels Jazz
REFRESH-INTERVAL;VALUE=DURATION:PT1H
X-Robots-Tag:noindex
X-PUBLISHED-TTL:PT1H
BEGIN:VTIMEZONE
TZID:America/Vancouver
BEGIN:DAYLIGHT
TZOFFSETFROM:-0800
TZOFFSETTO:-0700
TZNAME:PDT
DTSTART:20230312T100000
END:DAYLIGHT
BEGIN:STANDARD
TZOFFSETFROM:-0700
TZOFFSETTO:-0800
TZNAME:PST
DTSTART:20231105T090000
END:STANDARD
BEGIN:DAYLIGHT
TZOFFSETFROM:-0800
TZOFFSETTO:-0700
TZNAME:PDT
DTSTART:20240310T100000
END:DAYLIGHT
BEGIN:STANDARD
TZOFFSETFROM:-0700
TZOFFSETTO:-0800
TZNAME:PST
DTSTART:20241103T090000
END:STANDARD
BEGIN:DAYLIGHT
TZOFFSETFROM:-0800
TZOFFSETTO:-0700
TZNAME:PDT
DTSTART:20250309T100000
END:DAYLIGHT
BEGIN:STANDARD
TZOFFSETFROM:-0700
TZOFFSETTO:-0800
TZNAME:PST
DTSTART:20251102T090000
END:STANDARD
END:VTIMEZONE
BEGIN:VEVENT
DTSTART;TZID=America/Vancouver:20240704T190000
DTEND;TZID=America/Vancouver:20240704T223000
DTSTAMP:20260423T155055
CREATED:20240606T053844Z
LAST-MODIFIED:20241012T180211Z
UID:980-1720119600-1720132200@theinfidelsjazz.ca
SUMMARY:Star System Plays Sun Ra
DESCRIPTION:On July 04\, Star System makes their long-awaited return to play the music of the legendary Sun Ra at Hero’s Welcome. Led by Dan Gaucher & featuring 13 (!!!!) of the city’s finest creative musicians\, Star System invites you to an evening of Outer Space Music! This group has performed only sporadically since it’s formation over a decade ago\, and every show is a unique event. This is their first show in six years\, and tickets are available now.\nDoors open at 7PMShow starts at 8PM$25 in advance$30 at the door.\nFeaturing: Dan Gaucher\, Colin Cowan\, JP Carter\, Tyson Naylor\, Feven Kidane\, Andromeda Monk\, Gordy Li\, Josh Zubot\, Adrian Avendano\, Tom Wherrett\, Lee Hutzulak\, Jen Bjom\, and Lyra Higgs.\nThis performance is a presentation of Infidels Jazz.\n\nBUY TICKETS TODAY
URL:https://theinfidelsjazz.ca/event/star-system-plays-sun-ra/
LOCATION:Hero’s Welcome\, 3917 Main Street\, Vancouver\, BC\, V5V 3P2\, Canada
CATEGORIES:Concert
ATTACH;FMTTYPE=image/jpeg:https://theinfidelsjazz.ca/wp-content/uploads/2024/06/HW-Sun-Ra-Tribute-7.4.24-Insta.jpg
END:VEVENT
BEGIN:VEVENT
DTSTART;TZID=America/Vancouver:20240705T230000
DTEND;TZID=America/Vancouver:20240706T010000
DTSTAMP:20260423T155055
CREATED:20240613T054638Z
LAST-MODIFIED:20241012T180203Z
UID:999-1720220400-1720227600@theinfidelsjazz.ca
SUMMARY:Jason De Couto Trio at Frankie’s Jazz Club
DESCRIPTION:The Jason de Couto Organ Trio is a Vancouver organ trio led by Jason de Couto on Hammond B3 Organ\, and features Alvin Brendan on Guitar and Buff Allen on Drums. All three members are active and integral musicians in the local music scene and work in a variety of ensembles as leaders and sidemen. They have come together to form a unique and dynamic sound rarely heard in Vancouver\, featuring the mighty Hammond Organ. The group plays a mix of Jazz\, Funk\, Pop\, Latin\, and Blues music\, with influences ranging from Jimmy Smith\, Dr. Lonnie Smith\, and Jimmy McGriff\, to Larry Goldings\, Sam Yahel\, and Joey deFrancesco.\nFor this After Dark performance Jason will be joined by Alvin Brendan on Guitar and Buff Allen on Drums.\nFrankie’s After Dark takes place every Friday and Saturday at Frankie’s Jazz Club in downtown Vancouver and is curated by Tim Reinert of Infidels Jazz. Shows start at 11:00PM and tickets are $10.
URL:https://theinfidelsjazz.ca/event/jason-de-couto-trio-at-frankies-jazz-club/
LOCATION:Frankie’s Jazz Club\, 755 Beatty St\, Vancouver\, British Columbia\, V6B 2M4\, Canada
ATTACH;FMTTYPE=image/png:https://theinfidelsjazz.ca/wp-content/uploads/2024/06/07.05.24.png
END:VEVENT
BEGIN:VEVENT
DTSTART;TZID=America/Vancouver:20240706T230000
DTEND;TZID=America/Vancouver:20240707T010000
DTSTAMP:20260423T155055
CREATED:20240614T022452Z
LAST-MODIFIED:20241012T180155Z
UID:1036-1720306800-1720314000@theinfidelsjazz.ca
SUMMARY:Adam Thomas Trio at Frankie’s Jazz Club
DESCRIPTION:Adam Robert Thomas is a JUNO Nominated performer from Vancouver\, Canada. He was introduced in the US as the feature vocalist and bassist of the critically acclaimed Dan Brubeck Quartet. His 2018 self-titled debut album spent 12 weeks in the top 50 of R&B and Soul radio charts for Roots Music Report\, as well has holding at #9 for two months on Jambands.com radio charts.Adam’s music is soulful\, melodic\, funky\, and feel-good; clearly reminiscent of Ray Charles\, Donny Hathaway\, Al Green\, Marvin Gaye\, and Stevie Wonder. He performs a broad range of well-loved songs from classic jazz to current contemporary.\nHe’ll be playing guitar and singing\, joined by André Lachance on upright bass and Julian MacDonough on drums.\nFrankie’s After Dark takes place every Friday and Saturday at Frankie’s Jazz Club in downtown Vancouver and is curated by Tim Reinert of Infidels Jazz. Shows start at 11:00PM and tickets are $10.
URL:https://theinfidelsjazz.ca/event/adam-thomas-trio-at-frankies-jazz-club/
LOCATION:Frankie’s Jazz Club\, 755 Beatty St\, Vancouver\, British Columbia\, V6B 2M4\, Canada
CATEGORIES:Concert
ATTACH;FMTTYPE=image/png:https://theinfidelsjazz.ca/wp-content/uploads/2024/06/07.06.24.png
END:VEVENT
BEGIN:VEVENT
DTSTART;TZID=America/Vancouver:20240707T140000
DTEND;TZID=America/Vancouver:20240707T170000
DTSTAMP:20260423T155055
CREATED:20240613T055555Z
LAST-MODIFIED:20241012T180146Z
UID:1021-1720360800-1720371600@theinfidelsjazz.ca
SUMMARY:Ardeshir Quartet at Hero's Welcome
DESCRIPTION:One of the finest tenor players in the country makes his return to the Hero’s Welcome stage! Ardeshir will be joined by by Winston Matsushita\, David Caballero & Graham Villette!\nSundays at Hero’s Welcome (3917 Main Street) is a weekly jazz series presented by Tim Reinert of Infidels Jazz. The concept is to provide an affordable way for jazz lovers of all ages to gather and celebrate this music we love.\nPlease note the new admission cost of $10. Also please note the new start time of 2PM
URL:https://theinfidelsjazz.ca/event/ardeshir-quartet-at-heros-welcome/
LOCATION:Hero’s Welcome\, 3917 Main Street\, Vancouver\, BC\, V5V 3P2\, Canada
CATEGORIES:Concert
ATTACH;FMTTYPE=image/jpeg:https://theinfidelsjazz.ca/wp-content/uploads/2024/06/HW-Infidels-Jazz-Jul.-7-Insta-1.jpg
END:VEVENT
BEGIN:VEVENT
DTSTART;TZID=America/Vancouver:20240712T080000
DTEND;TZID=America/Vancouver:20240712T170000
DTSTAMP:20260423T155055
CREATED:20240713T032316Z
LAST-MODIFIED:20241012T180139Z
UID:1084-1720771200-1720803600@theinfidelsjazz.ca
SUMMARY:Cowboy Bebop + The Cowboy Bebop Bebop Band
DESCRIPTION:Get your tickets at the early bird price of $18 before August 5. Regular tickets will be $25. \nHere’s the double whammy of the season! Fresh from their sold out shows at Tyrant Studios & Hero’s Welcome\, the Cowboy Bebop Bebop Band (led by Steven Zhu) returns\, featuring some of the hottest young Jazz musicians in Vancouver playing music from the seminal Cowboy Bebop anime. \nThis special performance will be paired with a screening of the 2001 Cowboy Bebop: The Movie. \nRJ Abella — trumpet; Gordy Li — sax; Afu Keteca — bari sax; Patrick Kao — guitar; Rick Son — keys; Piyotr Kao — bass; Steven Zhu — drums \nLive Music: 7:30 pm\nMovie: 8:45 pm \n\nThe year is 2071. Following a terrorist bombing\, a deadly virus is released on the populace of Mars and the government has issued a 300 million woo-long reward\, the largest bounty in history\, for the capture of whoever is behind it. The bounty hunter crew of the spaceship Bebop; Spike\, Faye\, Jet and Ed\, take the case with hopes of cashing in the bounty… \nKnown in Japan as Cowboy Bebop: Knockin’ On Heaven’s Door\, this visually thrilling expansion from the ever-popular anime series more than stands the test of time — in fact it feels more timely now than it did back in 2001. \nA brilliant feature-length anime that’s good enough to deserve mention in the same breath as Akira\, Ghost in the Shell\, and Spirited Away. \nJamie Russell\, BBC \nHonors the affectless beauty of the original anime art and maintains the outlaw boppiness of the series concept. \nLisa Schwarzbaum\, Entertainment Weekly \nEven with its slow-moving observations of its recreation of the modern world and its characters’ introspections about the meaning of their lives\, the film defies the idea that a feature-length episode of Cowboy Bebop would be anything less than thrilling. It simply rocks as an action movie. \nKambole Campbell\, Thrillist \nBUY TICKETS TODAY
URL:https://theinfidelsjazz.ca/event/cowboy-bebop-the-cowboy-bebop-bebop-band/
LOCATION:BC
CATEGORIES:Concert
ATTACH;FMTTYPE=image/jpeg:https://theinfidelsjazz.ca/wp-content/uploads/2024/07/COWBOY.jpg
END:VEVENT
BEGIN:VEVENT
DTSTART;TZID=America/Vancouver:20240712T230000
DTEND;TZID=America/Vancouver:20240713T010000
DTSTAMP:20260423T155055
CREATED:20240614T022233Z
LAST-MODIFIED:20241012T180129Z
UID:1034-1720825200-1720832400@theinfidelsjazz.ca
SUMMARY:MRD3 at Frankie’s Jazz Club
DESCRIPTION:MRD3 aka Mad Riddim Dub Trio\, features the engine room (Richard Brown – drums\, Matt Reid – bass and Cuyler Biller – guitar) of popular Vancouver reggae group Mad Riddim.\nForming prior to the pandemic as a way to explore classic reggae albums via a heavy\, minimalist and fully improvised dub aesthetic\, the group continue to evolve\, using their varied musical influences as the foundation for unrelenting grooves and lush soundscapes.If Sly & Robbie met Khruangbin for a spliff at a party in liminal space\, MRD3 would be the band playing.\nMad Riddim features Richard Brown\, Matt Reid\, and Cuyler Biller\nFrankie’s After Dark takes place every Friday and Saturday at Frankie’s Jazz Club in downtown Vancouver and is curated by Tim Reinert of Infidels Jazz. Shows start at 11:00PM and tickets are $10.
URL:https://theinfidelsjazz.ca/event/mrd3-at-frankies-jazz-club/
LOCATION:Frankie’s Jazz Club\, 755 Beatty St\, Vancouver\, British Columbia\, V6B 2M4\, Canada
CATEGORIES:Concert
ATTACH;FMTTYPE=image/png:https://theinfidelsjazz.ca/wp-content/uploads/2024/06/07.12.24.png
END:VEVENT
BEGIN:VEVENT
DTSTART;TZID=America/Vancouver:20240713T230000
DTEND;TZID=America/Vancouver:20240714T010000
DTSTAMP:20260423T155055
CREATED:20240614T014453Z
LAST-MODIFIED:20241012T181324Z
UID:1032-1720911600-1720918800@theinfidelsjazz.ca
SUMMARY:Suin Park Quartet at Frankie’s Jazz Club
DESCRIPTION:Suin Park is a talented piano player and composer from South Korea. She loves music and has a master’s degree in jazz performance in Korea. She decided to move to Vancouver\, Canada\, all by herself\, looking for new adventures\, even though she didn’t know anyone there and wasn’t good at English. Suin believes that music helps people understand each other better. She thinks music is like a language everyone can speak\, no matter where they’re from. Playing the piano and making music \, Suin hopes to connect with people and make them feel something special through her music.\nFor this special After Dark Performance Suin’s band will featuring Feven Kidane on Trumpet\, Wynston Minckler on Bass\, and Kevin Romain on Drums.\nFrankie’s After Dark takes place every Friday and Saturday at Frankie’s Jazz Club in downtown Vancouver and is curated by Tim Reinert of Infidels Jazz. Shows start at 11:00PM and tickets are $10.
URL:https://theinfidelsjazz.ca/event/suin-park-quartet-at-frankies-jazz-club/
LOCATION:Frankie’s Jazz Club\, 755 Beatty St\, Vancouver\, British Columbia\, V6B 2M4\, Canada
CATEGORIES:Concert
ATTACH;FMTTYPE=image/png:https://theinfidelsjazz.ca/wp-content/uploads/2024/06/07.13.24.png
END:VEVENT
BEGIN:VEVENT
DTSTART;TZID=America/Vancouver:20240714T140000
DTEND;TZID=America/Vancouver:20240714T170000
DTSTAMP:20260423T155055
CREATED:20240613T054941Z
LAST-MODIFIED:20241012T181318Z
UID:1015-1720965600-1720976400@theinfidelsjazz.ca
SUMMARY:Jazz Jam Session with Jimi James Trio
DESCRIPTION:Infidels Jazz is proud to continue our new bi-weekly Jazz jam session which will take place Hero’s Welcome at 3917 Main Street\, two Sundays a month at 2PM. In July they will be held on July 14 & 28.\nJimi James is the perfect musician to host the house band in July\, known for hosting countless jam session at Marpole’s famed Jazz House\, and for his work with VEJI and John Gross. Joining him in July will be Brad Pearson & Jamison Ko.\nThese will be open jam sessions\, which means that everybody from professionals to high school students will be welcome. Helping us in making sure that the jam is accessible to those younger members of our community will be the Fraser MacPherson Jazz Fund\, who has signed on as a sponsor of the Jams. If you’re under the age of 19\, just make sure you have a guardian of legal age with you. You can use the instruments of the house band\, but please be respectful of them.\nSundays at Hero’s Welcome (3917 Main Street) is a bi-weekly jazz series presented by Tim Reinert of Infidels Jazz. The concept is to provide an affordable way for jazz lovers of all ages to gather and celebrate this music we love.\nAdmission for the jam sessions are only $5. Please note the new time of 2PM
URL:https://theinfidelsjazz.ca/event/jazz-jam-session-with-jimi-james-trio/
LOCATION:Hero’s Welcome\, 3917 Main Street\, Vancouver\, BC\, V5V 3P2\, Canada
CATEGORIES:Concert
ATTACH;FMTTYPE=image/jpeg:https://theinfidelsjazz.ca/wp-content/uploads/2024/06/Infidels-Jazz-Jam-July-Insta.jpg
END:VEVENT
BEGIN:VEVENT
DTSTART;TZID=America/Vancouver:20240714T190000
DTEND;TZID=America/Vancouver:20240714T213000
DTSTAMP:20260423T155055
CREATED:20240614T031851Z
LAST-MODIFIED:20241012T181311Z
UID:1038-1720983600-1720992600@theinfidelsjazz.ca
SUMMARY:Happiest Big Band On Earth 
DESCRIPTION:Infidels Jazz Present\nHappiest Big Band On Earth\nSunday July 14\, 2024 \nThe Pearl\nVancouver\, BC \n18 Person Big Band Plays Disney & Pixar Classics \nBuy tickets today!
URL:https://theinfidelsjazz.ca/event/happiest-big-band-on-earth/
LOCATION:The Pearl\, 881 Granville St\, Vancouver\, British Columbia\, V6Z 1L1\, Canada
CATEGORIES:Concert
ATTACH;FMTTYPE=image/png:https://theinfidelsjazz.ca/wp-content/uploads/2024/06/Happiest_BAND.png
END:VEVENT
BEGIN:VEVENT
DTSTART;TZID=America/Vancouver:20240719T230000
DTEND;TZID=America/Vancouver:20240720T010000
DTSTAMP:20260423T155055
CREATED:20240614T013736Z
LAST-MODIFIED:20241012T181303Z
UID:1030-1721430000-1721437200@theinfidelsjazz.ca
SUMMARY:“Some Hip Drum Sh%t” ft. Julian Ferrer & Daniel Marmer at Frankie’s After Dark
DESCRIPTION:Montreal based drummer Julian Ferrer and guitarist Daniel Marmer became inspired to explore the rich repertoire of jazz drummers throughout history under the mentorship of Ira Coleman and Darrell Green\, musicians who have studied and played with legendary drummers Max Roach\, Tony Williams\, and Elvin Jones. These drummers were at the forefront of the genre in their time\, pushing to explore West African\, Fusion\, and contemporary jazz influences. Their impact is seen to this day through contemporaries Makaya McCraven\, Marquis Hill\, Joel Ross\, and many more.\nFilling out the band are trumpeter virtuoso Owen Chow and grooving bassist Raphael Agustin\, long-time collaborators from Vancouver and classmates during their studies at McGill University. Marmer and Ferrer have gained recognition recently\, awarded the 2023 Oscar Peterson Grant and Fraser MacPherson Scholarship respectively. Transcendent collective interaction and intense story telling are at the centre of this group’s core values. Visit at Frankie’s After Dark on July 19th at 11pm for an action-packed night to remember!\nThis band features Julian Ferrer on Drums\, Daniel Marmer on guitar\, Owen Chow on trumpet\, and Raphael Agustin on bass.\nFrankie’s After Dark takes place every Friday and Saturday at Frankie’s Jazz Club in downtown Vancouver and is curated by Tim Reinert of Infidels Jazz. Shows start at 11:00PM and tickets are $10.
URL:https://theinfidelsjazz.ca/event/some-hip-drum-sht-featuring-julian-ferrer-daniel-marmer-at-frankies-jazz-club/
LOCATION:Frankie’s Jazz Club\, 755 Beatty St\, Vancouver\, British Columbia\, V6B 2M4\, Canada
CATEGORIES:Concert
ATTACH;FMTTYPE=image/png:https://theinfidelsjazz.ca/wp-content/uploads/2024/06/07.19.24.png
END:VEVENT
BEGIN:VEVENT
DTSTART;TZID=America/Vancouver:20240720T230000
DTEND;TZID=America/Vancouver:20240721T010000
DTSTAMP:20260423T155055
CREATED:20240614T013402Z
LAST-MODIFIED:20241012T181243Z
UID:1028-1721516400-1721523600@theinfidelsjazz.ca
SUMMARY:Chad Galpin Trio at Frankie’s Jazz Club
DESCRIPTION:This is Vancouver bassist Chad Galpin’s bandleading debut\, featuring Madeleine Elkins on guitar and Carson Tworow on drums. Open-ended improvisation will collide with modern contemporary and electronic repertoire as this trio performs unexpected arrangements and original compositions.\nFor this special After Dark\, Chad Galpin will be joined by Madeleine Elkins on guitar and Carson Tworow on Drums.\nFrankie’s After Dark takes place every Friday and Saturday at Frankie’s Jazz Club in downtown Vancouver and is curated by Tim Reinert of Infidels Jazz. Shows start at 11:00PM and tickets are $10.
URL:https://theinfidelsjazz.ca/event/chad-galpin-trio-at-frankies-jazz-club/
LOCATION:Frankie’s Jazz Club\, 755 Beatty St\, Vancouver\, British Columbia\, V6B 2M4\, Canada
CATEGORIES:Concert
ATTACH;FMTTYPE=image/png:https://theinfidelsjazz.ca/wp-content/uploads/2024/06/07.20.24.png
END:VEVENT
BEGIN:VEVENT
DTSTART;TZID=America/Vancouver:20240721T140000
DTEND;TZID=America/Vancouver:20240721T170000
DTSTAMP:20260423T155055
CREATED:20240613T055407Z
LAST-MODIFIED:20241012T181235Z
UID:1019-1721570400-1721581200@theinfidelsjazz.ca
SUMMARY:Chad Makela Plays Elvin Jones Live at the Lighthouse
DESCRIPTION:For this special performance at Hero’s Welcome\, critically acclaimed saxophonist Chad Makela will be leading a band of Vancouver’s best as they perform Elvin Jones’ 1973 masterpiece on Blue Note Records: Live at the Lighthouse.\nChad Makela – SaxophonesJon Bentley – SaxophonesJames Meger – BassDave Robbins – Drums\nSundays at Hero’s Welcome (3917 Main Street) is a weekly jazz series presented by Tim Reinert of Infidels Jazz. The concept is to provide an affordable way for jazz lovers of all ages to gather and celebrate this music we love.\nPlease note the new admission cost of $10. Also please note the new start time of 2PM
URL:https://theinfidelsjazz.ca/event/chad-makela-plays-elvin-jones-live-at-the-lighthouse/
LOCATION:Hero’s Welcome\, 3917 Main Street\, Vancouver\, BC\, V5V 3P2\, Canada
CATEGORIES:Concert
ATTACH;FMTTYPE=image/jpeg:https://theinfidelsjazz.ca/wp-content/uploads/2024/06/HW-Infidels-Jazz-Jul.-21-Insta-1.jpg
END:VEVENT
BEGIN:VEVENT
DTSTART;TZID=America/Vancouver:20240726T230000
DTEND;TZID=America/Vancouver:20240727T010000
DTSTAMP:20260423T155055
CREATED:20240613T060040Z
LAST-MODIFIED:20241012T181228Z
UID:1025-1722034800-1722042000@theinfidelsjazz.ca
SUMMARY:Ron Samworth\, James Meger\, and Omar Amlani at Frankie's After Dark
DESCRIPTION:Covering a wide range of material from traditional jazz standards\, interpretations of rock and folk songs as well as original compositions\, expect to hear music that is dynamic\, thought provoking and always feels good.\nFeaturing Ron Samworth on Guitar\, James Meger on Double Bass\, and Omar Amlani on Drums.\nFrankie’s After Dark takes place every Friday and Saturday at Frankie’s Jazz Club in downtown Vancouver and is curated by Tim Reinert of Infidels Jazz. Shows start at 11:00PM and tickets are $10.
URL:https://theinfidelsjazz.ca/event/ron-samworth-james-meger-and-omar-amlani-at-frankies-after-dark/
LOCATION:Frankie’s Jazz Club\, 755 Beatty St\, Vancouver\, British Columbia\, V6B 2M4\, Canada
CATEGORIES:Concert
ATTACH;FMTTYPE=image/png:https://theinfidelsjazz.ca/wp-content/uploads/2024/06/07.26.24.png
END:VEVENT
BEGIN:VEVENT
DTSTART;TZID=America/Vancouver:20240727T230000
DTEND;TZID=America/Vancouver:20240728T010000
DTSTAMP:20260423T155055
CREATED:20240613T055752Z
LAST-MODIFIED:20241012T181221Z
UID:1023-1722121200-1722128400@theinfidelsjazz.ca
SUMMARY:Reuben Spyker Trio at Frankie's After Dark
DESCRIPTION:When attending a Paramyst performance\, you can expect intense and memorable solos\, unique rhythmic interpretations of Jazz standards and you may even hear a Radiohead tune! Our aim for every show is to deliver a top notch performance and connect deeply with the audience through the music.\nFor this special After Dark performance\, Paramyst will be comprised of Reuben Spyker on drums\, Dean Thiessen on piano\, and Stephen Edwards on bass.\nFrankie’s After Dark takes place every Friday and Saturday at Frankie’s Jazz Club in downtown Vancouver and is curated by Tim Reinert of Infidels Jazz. Shows start at 11:00PM and tickets are $10.
URL:https://theinfidelsjazz.ca/event/reuben-spyker-trio-at-frankies-after-dark/
LOCATION:Frankie’s Jazz Club\, 755 Beatty St\, Vancouver\, British Columbia\, V6B 2M4\, Canada
CATEGORIES:Concert
ATTACH;FMTTYPE=image/png:https://theinfidelsjazz.ca/wp-content/uploads/2024/06/07.27.24.png
END:VEVENT
BEGIN:VEVENT
DTSTART;TZID=America/Vancouver:20240728T140000
DTEND;TZID=America/Vancouver:20240728T170000
DTSTAMP:20260423T155055
CREATED:20240613T055115Z
LAST-MODIFIED:20241012T181215Z
UID:1017-1722175200-1722186000@theinfidelsjazz.ca
SUMMARY:Jazz Jam Session with Jimi James Trio
DESCRIPTION:Infidels Jazz is proud to continue our new bi-weekly Jazz jam session which will take place Hero’s Welcome at 3917 Main Street\, two Sundays a month at 2PM. In July they will be held on July 14 & 28\nJimi James is the perfect musician to host the house band in July\, known for hosting countless jam session at Marpole’s famed Jazz House\, and for his work with VEJI and John Gross. Joining him in July will be Brad Pearson & Jamison Ko.\nThese will be open jam sessions\, which means that everybody from professionals to high school students will be welcome. Helping us in making sure that the jam is accessible to those younger members of our community will be the Fraser MacPherson Jazz Fund\, who has signed on as a sponsor of the Jams. If you’re under the age of 19\, just make sure you have a guardian of legal age with you. You can use the instruments of the house band\, but please be respectful of them.\nSundays at Hero’s Welcome (3917 Main Street) is a bi-weekly jazz series presented by Tim Reinert of Infidels Jazz. The concept is to provide an affordable way for jazz lovers of all ages to gather and celebrate this music we love.\nAdmission for the jam sessions are only $5. Please note the new time of 2PM
URL:https://theinfidelsjazz.ca/event/jazz-jam-session-with-jimi-james-trio-2/
LOCATION:Hero’s Welcome\, 3917 Main Street\, Vancouver\, BC\, V5V 3P2\, Canada
CATEGORIES:Concert
ATTACH;FMTTYPE=image/jpeg:https://theinfidelsjazz.ca/wp-content/uploads/2024/06/Infidels-Jazz-Jam-July-Insta.jpg
END:VEVENT
END:VCALENDAR