BEGIN:VCALENDAR
VERSION:2.0
PRODID:-//Infidels Jazz - ECPv6.15.12.2//NONSGML v1.0//EN
CALSCALE:GREGORIAN
METHOD:PUBLISH
X-ORIGINAL-URL:https://theinfidelsjazz.ca
X-WR-CALDESC:Events for Infidels Jazz
REFRESH-INTERVAL;VALUE=DURATION:PT1H
X-Robots-Tag:noindex
X-PUBLISHED-TTL:PT1H
BEGIN:VTIMEZONE
TZID:America/Vancouver
BEGIN:DAYLIGHT
TZOFFSETFROM:-0800
TZOFFSETTO:-0700
TZNAME:PDT
DTSTART:20230312T100000
END:DAYLIGHT
BEGIN:STANDARD
TZOFFSETFROM:-0700
TZOFFSETTO:-0800
TZNAME:PST
DTSTART:20231105T090000
END:STANDARD
BEGIN:DAYLIGHT
TZOFFSETFROM:-0800
TZOFFSETTO:-0700
TZNAME:PDT
DTSTART:20240310T100000
END:DAYLIGHT
BEGIN:STANDARD
TZOFFSETFROM:-0700
TZOFFSETTO:-0800
TZNAME:PST
DTSTART:20241103T090000
END:STANDARD
BEGIN:DAYLIGHT
TZOFFSETFROM:-0800
TZOFFSETTO:-0700
TZNAME:PDT
DTSTART:20250309T100000
END:DAYLIGHT
BEGIN:STANDARD
TZOFFSETFROM:-0700
TZOFFSETTO:-0800
TZNAME:PST
DTSTART:20251102T090000
END:STANDARD
END:VTIMEZONE
BEGIN:VEVENT
DTSTART;TZID=America/Vancouver:20240503T230000
DTEND;TZID=America/Vancouver:20240504T010000
DTSTAMP:20260423T125155
CREATED:20240504T013117Z
LAST-MODIFIED:20241012T175952Z
UID:930-1714777200-1714784400@theinfidelsjazz.ca
SUMMARY:Juno + Owen Chow and Karl DeJong | Frankie's After Dark
DESCRIPTION:Juno is a Canadian bassist and composer\, now residing in Montreal and attending McGill’s Schulich School of Music. Since moving across the country three years ago\, Juno has been establishing a voice in Montreal as a sideman\, working as an electric/double bassist in Jazz\, Indie\, Folk\, and Classical music whilst also developing a voice as a young composer. Having spent time with jazz luminaries Jesse Cahill and Kevin Dean\, as well as emerging artists Jeremy Sandfelder\, Lucas Dubovik\, and Khalil Bouaziz\, Juno is delighted to be bringing their own ensemble to Frankie’s Jazz Bar\, performing an eclectic mix of standards\, originals\, and music from the Modern American Songbook.\nFor this Frankie’s After Dark performance they’ll be joined by Owen Chow on trumpet and Karl DeJong on drums.\nFrankie’s After Dark takes place every Friday and Saturday at Frankie’s Jazz Club in downtown Vancouver and is curated by Tim Reinert of Infidels Jazz. Shows start at 11:00PM and tickets are $10.
URL:https://theinfidelsjazz.ca/event/juno-owen-chow-and-karl-dejong-frankies-after-dark/
LOCATION:Frankie’s Jazz Club\, 755 Beatty St\, Vancouver\, British Columbia\, V6B 2M4\, Canada
CATEGORIES:Concert
ATTACH;FMTTYPE=image/png:https://theinfidelsjazz.ca/wp-content/uploads/2024/04/05.03.24.png
END:VEVENT
BEGIN:VEVENT
DTSTART;TZID=America/Vancouver:20240504T230000
DTEND;TZID=America/Vancouver:20240505T010000
DTSTAMP:20260423T125155
CREATED:20240504T012921Z
LAST-MODIFIED:20241012T175945Z
UID:928-1714863600-1714870800@theinfidelsjazz.ca
SUMMARY:Open Jam Session with Benny Benack III | Frankie's After Dark
DESCRIPTION:Trumpeter/Vocalist Benny Benack III is one of the biggest young stars in contemporary Jazz. For this special Jam session\, Benny has invited Vancouver’s Jazz Community to join him and his band onstage at Frankie’s!\nFrankie’s After Dark takes place every Friday and Saturday at Frankie’s Jazz Club in downtown Vancouver and is curated by Tim Reinert of Infidels Jazz. Shows start at 11:00PM and tickets are $10.
URL:https://theinfidelsjazz.ca/event/open-jam-session-with-benny-benack-frankies-after-dark/
LOCATION:Frankie’s Jazz Club\, 755 Beatty St\, Vancouver\, British Columbia\, V6B 2M4\, Canada
CATEGORIES:Concert
ATTACH;FMTTYPE=image/png:https://theinfidelsjazz.ca/wp-content/uploads/2024/04/05.04.24.png
END:VEVENT
BEGIN:VEVENT
DTSTART;TZID=America/Vancouver:20240505T140000
DTEND;TZID=America/Vancouver:20240505T160000
DTSTAMP:20260423T125155
CREATED:20240326T105748Z
LAST-MODIFIED:20241012T175930Z
UID:877-1714917600-1714924800@theinfidelsjazz.ca
SUMMARY:Jazz Jam Sessions at Hero’s Welcome with Sharon Minemoto Trio
DESCRIPTION:Infidels Jazz is proud to announce a new bi-weekly Jazz jam session which will take place Hero’s Welcome at 3917 Main Street\, starting in April at 2PM.\nSharon Minemoto is the perfect musician to host the house band for the first few months\, as she led the jam sessions at Pat’s for years. Joining her in April and May will be some of the city’s finest bassists and drummers\, including Darren Radtke\, Bernie Arai\, Nino DePasquale\, Conrad Good and Dave Robbins.\nThese will be open jam sessions\, which means that everybody from professionals to high school students will be welcome. Helping us in making sure that the jam is accessible to those younger members of our community will be the Fraser MacPherson Jazz Fund\, who has signed on as a sponsor of the Jams. If you’re under the age of 19\, just make sure you have a guardian of legal age with you. You can use the instruments of the house band\, but please be respectful of them.\nFirst few dates and personnel are listed below:\nApril 07 – Sharon Minemoto\, Darren Radtke\, Bernie Arai\nApril 21 – Sharon Minemoto\, Darren Radtke\, Nino DiPasquale\nMay 05 – Sharon Minemoto\, Conrad Good\, Dave Robbins\nMay 19 – Sharon Minemoto\, Conrad Good\, Dave Robbins\nSundays at Hero’s Welcome (3917 Main Street) is a bi-weekly jazz series presented by Tim Reinert of Infidels Jazz. The concept is to provide an affordable way for jazz lovers of all ages to gather and celebrate this music we love.\nAdmission for the jam sessions are only $5. Please note the new time of 2PM
URL:https://theinfidelsjazz.ca/event/jazz-jam-sessions-at-heros-welcome-with-sharon-minemoto-trio-3/
LOCATION:Hero’s Welcome\, 3917 Main Street\, Vancouver\, BC\, V5V 3P2\, Canada
CATEGORIES:Concert
ATTACH;FMTTYPE=image/jpeg:https://theinfidelsjazz.ca/wp-content/uploads/2024/03/HERO.jpeg
END:VEVENT
BEGIN:VEVENT
DTSTART;TZID=America/Vancouver:20240505T140000
DTEND;TZID=America/Vancouver:20240505T160000
DTSTAMP:20260423T125155
CREATED:20240504T013440Z
LAST-MODIFIED:20241012T175920Z
UID:932-1714917600-1714924800@theinfidelsjazz.ca
SUMMARY:Jam Session with Sharon Minemoto at Hero's Welcome
DESCRIPTION:Infidels Jazz is proud to announce a new bi-weekly Jazz jam session which will take place Hero’s Welcome at 3917 Main Street\, starting in April at 2PM.\nSharon Minemoto is the perfect musician to host the house band for the first few months\, as she led the jam sessions at Pat’s for years. Joining her in April and May will be some of the city’s finest bassists and drummers\, including Darren Radtke\, Bernie Arai\, Nino DePasquale\, Conrad Good and Dave Robbins.\nThese will be open jam sessions\, which means that everybody from professionals to high school students will be welcome. Helping us in making sure that the jam is accessible to those younger members of our community will be the Fraser MacPherson Jazz Fund\, who has signed on as a sponsor of the Jams. If you’re under the age of 19\, just make sure you have a guardian of legal age with you. You can use the instruments of the house band\, but please be respectful of them.\nDates and personnel are listed below:\n\nMay 05 – Sharon Minemoto\, Conrad Good\, Dave Robbins\nMay 19 – Sharon Minemoto\, Conrad Good\, Dave Robbins\n\nSundays at Hero’s Welcome (3917 Main Street) is a bi-weekly jazz series presented by Tim Reinert of Infidels Jazz. The concept is to provide an affordable way for jazz lovers of all ages to gather and celebrate this music we love.\nAdmission for the jam sessions are only $5. Please note the new time of 2PM
URL:https://theinfidelsjazz.ca/event/jam-session-with-sharon-minemoto-at-heros-welcome/
LOCATION:Hero’s Welcome\, 3917 Main Street\, Vancouver\, BC\, V5V 3P2\, Canada
CATEGORIES:Concert
ATTACH;FMTTYPE=image/jpeg:https://theinfidelsjazz.ca/wp-content/uploads/2024/04/Infidels-Jazz-Jams-Apr_Mar-Insta.jpg
END:VEVENT
BEGIN:VEVENT
DTSTART;TZID=America/Vancouver:20240510T080000
DTEND;TZID=America/Vancouver:20240510T170000
DTSTAMP:20260423T125155
CREATED:20240504T012724Z
LAST-MODIFIED:20241012T175912Z
UID:925-1715328000-1715360400@theinfidelsjazz.ca
SUMMARY:KneeJerk | Frankie's After Dark
DESCRIPTION:Featuring Brian Horswill on piano\, Karlis Silins bass\, Kenton Loewen on the drums and the new addition of our very good friend Cole Schmidt on the guitar\, KneeJerk is a free jazz project that plays with minimalism and evokes chaos. Between the nearly tangible and a wild almost playful din\, this quartet obscures form to create a strange and beautiful jangle. KneeJerk will be heading in to the studio to record their second album in late spring.\nFor this Frankie’s After Dark performance KneeJerk will feature Cole Schmidt on guitar\, Brian Horswill on piano\, Karlis Silins on piano\, and Kenton Loewen on drums.\nFrankie’s After Dark takes place every Friday and Saturday at Frankie’s Jazz Club in downtown Vancouver and is curated by Tim Reinert of Infidels Jazz. Shows start at 11:00PM and tickets are $10.
URL:https://theinfidelsjazz.ca/event/kneejerk-frankies-after-dark/
LOCATION:Frankie’s Jazz Club\, 755 Beatty St\, Vancouver\, British Columbia\, V6B 2M4\, Canada
CATEGORIES:Concert
ATTACH;FMTTYPE=image/png:https://theinfidelsjazz.ca/wp-content/uploads/2024/04/05.10.24.png
END:VEVENT
BEGIN:VEVENT
DTSTART;TZID=America/Vancouver:20240511T193000
DTEND;TZID=America/Vancouver:20240511T233000
DTSTAMP:20260423T125155
CREATED:20240307T075504Z
LAST-MODIFIED:20241012T175906Z
UID:829-1715455800-1715470200@theinfidelsjazz.ca
SUMMARY:Quincy Mayes Experience at All-City Athletics
DESCRIPTION:This explosive group led by Quincy Mayes will present a time capsule evening of 70s Funk\, Jazz Fusion and Música popular Brasileira in a “live mixtape” format. Paying tribute to such seminal artists/groups as Herbie Hancock’s Headhunters\, Azymuth and Flora Purim\, this ensemble envisions new arrangements and colors that bring fresh perspective to influential works from past eras. Open your mind\, and come along for the ride. \nQuincy Mayes —Piano/Keys \nBenjamin Millman — Organ/Synths \nYamil Chain-Haddad — Bass \nMiles Wong — Drums \n+ Special Guests \nThis event is on May 11 at All-City Athletics at 130 W. Hastings. It’s only accessible from the the Alley Entrance\, and is presented by Tim Reinert of Infidels Jazz. \nBuy tickets today
URL:https://theinfidelsjazz.ca/event/quincy-mayes-experience-at-all-city-athletics/
LOCATION:All-City Athletics\, 130 West Hastings\, alley entrance\, Vancouver\, BC\, V6B 1G9\, Canada
CATEGORIES:Concert
ATTACH;FMTTYPE=image/png:https://theinfidelsjazz.ca/wp-content/uploads/2024/03/QUINCY.png
END:VEVENT
BEGIN:VEVENT
DTSTART;TZID=America/Vancouver:20240511T230000
DTEND;TZID=America/Vancouver:20240512T010000
DTSTAMP:20260423T125155
CREATED:20240504T012519Z
LAST-MODIFIED:20241012T175854Z
UID:923-1715468400-1715475600@theinfidelsjazz.ca
SUMMARY:DM Electric Ko | Frankie's After Dark
DESCRIPTION:A powerhouse organ trio playing Funk\, Soul\, & Gospel hits. This music was innovated and mastered by Black American Musicians and this band is a celebration of their ingenuity and talent.\nFor this Frankie’s After Dark Performance the band will feature Dean Thiessen on Organ & Keys\, Marcus Abramzik on Bass\, and Jamison Ko on Drums.\nFrankie’s After Dark takes place every Friday and Saturday at Frankie’s Jazz Club in downtown Vancouver and is curated by Tim Reinert of Infidels Jazz. Shows start at 11:00PM and tickets are $10.
URL:https://theinfidelsjazz.ca/event/d-m-electric-ko-frankies-after-dark/
LOCATION:Frankie’s Jazz Club\, 755 Beatty St\, Vancouver\, British Columbia\, V6B 2M4\, Canada
CATEGORIES:Concert
ATTACH;FMTTYPE=image/png:https://theinfidelsjazz.ca/wp-content/uploads/2024/04/05.11.24.png
END:VEVENT
BEGIN:VEVENT
DTSTART;TZID=America/Vancouver:20240512T140000
DTEND;TZID=America/Vancouver:20240512T160000
DTSTAMP:20260423T125155
CREATED:20240504T014128Z
LAST-MODIFIED:20241012T175839Z
UID:938-1715522400-1715529600@theinfidelsjazz.ca
SUMMARY:Thunder Lizard at Hero's Welcome
DESCRIPTION:Thunder Lizard plays Groovy Jazz Organ Trio Music\, and features local heavyweights Jared Burrows on guitar\, Nick Peck on organ\, and Joe Poole on drums.\nThis band draws on the classic organ trio tradition with an emphasis original tunes and thunderous odd-meter grooves.\nSundays at Hero’s Welcome (3917 Main Street) is a weekly jazz series presented by Tim Reinert of Infidels Jazz. The concept is to provide an affordable way for jazz lovers of all ages to gather and celebrate this music we love.\nPlease note the new admission cost of $10. Also please note the new start time of 2PM
URL:https://theinfidelsjazz.ca/event/thunder-lizard-at-heros-welcome/
LOCATION:Hero’s Welcome\, 3917 Main Street\, Vancouver\, BC\, V5V 3P2\, Canada
CATEGORIES:Concert
ATTACH;FMTTYPE=image/jpeg:https://theinfidelsjazz.ca/wp-content/uploads/2024/04/HW-Infidels-Jazz-May-12-Insta.jpg
END:VEVENT
BEGIN:VEVENT
DTSTART;TZID=America/Vancouver:20240516T200000
DTEND;TZID=America/Vancouver:20240516T223000
DTSTAMP:20260423T125155
CREATED:20240404T015759Z
LAST-MODIFIED:20241012T175829Z
UID:895-1715889600-1715898600@theinfidelsjazz.ca
SUMMARY:VIFF Live: Raagaverse Plays Bollywood
DESCRIPTION:Raagaverse is an exciting Indo-Jazz fusion project spearheaded by Shruti Ramani (voice) in a collaboration with the award-winning Jodi Proznick (bass)\, the supremely talented Noah Franche-Nolan (piano\, Nord)\, and the fiery Nicholas Bracewell (drums). Raagaverse’s music melds ancient and rich Hindustani melodies with dense and dynamic Jazz harmonies. \nFor this special show\, Raagaverse will be delving into the vibrant world of Bollywood\, from Lata Mangeshkar classics to A.R. Rahman’s magic. Shruti will share clips from the legendary Bollywood musicals which inspire her\, counter-pointing them with the band’s unique take on these songs\, in Raagaverse’s iconic jazz quartet sound. \nThe show will also feature other extraordinary musical guests; Kiarah O’Kane on backing vocals\, Thad Bailey-Mai on Trumpet and Curtis Andrews on percussion alongside Raagaverse. \nBuy tickets today!
URL:https://theinfidelsjazz.ca/event/viff-live-raagaverse-plays-bollywood/
LOCATION:VIFF Centre\, 1181 Seymour Street\, Vancouver\, BC\, V6B 3M7\, Canada
CATEGORIES:Concert
ATTACH;FMTTYPE=image/jpeg:https://theinfidelsjazz.ca/wp-content/uploads/2024/04/RaagaversePlaysBollywood.jpg
END:VEVENT
BEGIN:VEVENT
DTSTART;TZID=America/Vancouver:20240517T230000
DTEND;TZID=America/Vancouver:20240518T010000
DTSTAMP:20260423T125155
CREATED:20240504T011415Z
LAST-MODIFIED:20241012T175820Z
UID:921-1715986800-1715994000@theinfidelsjazz.ca
SUMMARY:John Korsrud Plays Kenny Wheeler | Frankie's After Dark
DESCRIPTION:Trumpeter John Korsrud\, accompanied by a band comprised of Vancouver’s top musicians\, honors the legacy of jazz legend Kenny Wheeler. Wheeler\, renowned as one of jazz’s foremost composers and instrumentalists\, has profoundly impacted the genre with his emotive and melancholic style\, influencing countless contemporary composers.\nFor this Frankie’s After Dark Performance he’ll be joined by Jon Bentley on saxophone\, Jillian Lebeck on piano\, Conrad Good on bass\, and Dave Robbins on drums.\nFrankie’s After Dark takes place every Friday and Saturday at Frankie’s Jazz Club in downtown Vancouver and is curated by Tim Reinert of Infidels Jazz. Shows start at 11:00PM and tickets are $10.
URL:https://theinfidelsjazz.ca/event/john-korsrud-plays-kenny-wheeler-frankies-after-dark/
LOCATION:Frankie’s Jazz Club\, 755 Beatty St\, Vancouver\, British Columbia\, V6B 2M4\, Canada
CATEGORIES:Concert
ATTACH;FMTTYPE=image/png:https://theinfidelsjazz.ca/wp-content/uploads/2024/04/05.17.24.png
END:VEVENT
BEGIN:VEVENT
DTSTART;TZID=America/Vancouver:20240518T190000
DTEND;TZID=America/Vancouver:20240518T220000
DTSTAMP:20260423T125155
CREATED:20240404T014945Z
LAST-MODIFIED:20241012T175812Z
UID:891-1716058800-1716069600@theinfidelsjazz.ca
SUMMARY:Amphibioux & The Brazilian Storm at the Fox Cabaret
DESCRIPTION:Fresh from sold-out shows at Tyrant Studios and Frankie’s After Dark\, Amphibioux draws from the roots of musical genreas such choro\, forró\, samba\, baião\, bossa nova and jazz. The Amphibians play to honor the musical giants that came before them\, while creating music and moments to decorate time. They are excited to play their very first show at the Fox Cabaret. \nAmphibioux is: \nChoenden Kyirong: Trombone \nJulia Farry: Upright Bass\nMauricio Zani: Piano \nTiago Cavalcanti: Drums \nSpecial guest musicians will include: \nConnor Lum: Reeds \nLiam MacDonald: Percussion \nMario Silva: Guitar \nSara Magal: Vocals \nAmarElas: Guest Band \nSpecial Guest Dancers will include: \nLarissa SantosRodrigo \nMarques Demoly \nBuy tickets today
URL:https://theinfidelsjazz.ca/event/amphibioux-the-brazilian-storm-at-the-fox-cabaret/
LOCATION:The Fox Cabaret\, 2321 Main Street\, Vancouver\, British Columbia\, V5T 3C9\, Canada
CATEGORIES:Concert
ATTACH;FMTTYPE=image/png:https://theinfidelsjazz.ca/wp-content/uploads/2024/04/amphibioux-band-insta.png
END:VEVENT
BEGIN:VEVENT
DTSTART;TZID=America/Vancouver:20240518T230000
DTEND;TZID=America/Vancouver:20240519T010000
DTSTAMP:20260423T125155
CREATED:20240504T011115Z
LAST-MODIFIED:20241012T175756Z
UID:919-1716073200-1716080400@theinfidelsjazz.ca
SUMMARY:Woodland\, Stewart\, and Woods | Frankie's After Dark
DESCRIPTION:Exploring experimental forms in collaborative composition and improvisation\, the trio draws inspiration from both the Chicago improvised music scene and minimalist composers in a ”jazz” adjacent aesthetic. Featuring some of the most imaginative and adventurous players in the city\, prepare for a night full of soulful grooves and contemplative soundscapes.\nFor this Frankie’s After Dark this group will be comprised of Cole Woodland on Bass\, Todd Stewart on Drums\, and Parker Woods on guitar.\nFrankie’s After Dark takes place every Friday and Saturday at Frankie’s Jazz Club in downtown Vancouver and is curated by Tim Reinert of Infidels Jazz. Shows start at 11:00PM and tickets are $10.
URL:https://theinfidelsjazz.ca/event/woodland-stewart-and-woods-frankies-after-dark/
LOCATION:Frankie’s Jazz Club\, 755 Beatty St\, Vancouver\, British Columbia\, V6B 2M4\, Canada
CATEGORIES:Concert
ATTACH;FMTTYPE=image/png:https://theinfidelsjazz.ca/wp-content/uploads/2024/04/05.18.24.png
END:VEVENT
BEGIN:VEVENT
DTSTART;TZID=America/Vancouver:20240519T140000
DTEND;TZID=America/Vancouver:20240519T160000
DTSTAMP:20260423T125155
CREATED:20240326T105926Z
LAST-MODIFIED:20241012T175743Z
UID:879-1716127200-1716134400@theinfidelsjazz.ca
SUMMARY:Jazz Jam Sessions at Hero’s Welcome with Sharon Minemoto Trio
DESCRIPTION:Infidels Jazz is proud to announce a new bi-weekly Jazz jam session which will take place Hero’s Welcome at 3917 Main Street\, starting in April at 2PM.\nSharon Minemoto is the perfect musician to host the house band for the first few months\, as she led the jam sessions at Pat’s for years. Joining her in April and May will be some of the city’s finest bassists and drummers\, including Darren Radtke\, Bernie Arai\, Nino DePasquale\, Conrad Good and Dave Robbins.\nThese will be open jam sessions\, which means that everybody from professionals to high school students will be welcome. Helping us in making sure that the jam is accessible to those younger members of our community will be the Fraser MacPherson Jazz Fund\, who has signed on as a sponsor of the Jams. If you’re under the age of 19\, just make sure you have a guardian of legal age with you. You can use the instruments of the house band\, but please be respectful of them.\nFirst few dates and personnel are listed below:\nApril 07 – Sharon Minemoto\, Darren Radtke\, Bernie Arai\nApril 21 – Sharon Minemoto\, Darren Radtke\, Nino DiPasquale\nMay 05 – Sharon Minemoto\, Conrad Good\, Dave Robbins\nMay 19 – Sharon Minemoto\, Conrad Good\, Dave Robbins\nSundays at Hero’s Welcome (3917 Main Street) is a bi-weekly jazz series presented by Tim Reinert of Infidels Jazz. The concept is to provide an affordable way for jazz lovers of all ages to gather and celebrate this music we love.\nAdmission for the jam sessions are only $5. Please note the new time of 2PM
URL:https://theinfidelsjazz.ca/event/jazz-jam-sessions-at-heros-welcome-with-sharon-minemoto-trio-4/
LOCATION:Hero’s Welcome\, 3917 Main Street\, Vancouver\, BC\, V5V 3P2\, Canada
CATEGORIES:Concert
ATTACH;FMTTYPE=image/jpeg:https://theinfidelsjazz.ca/wp-content/uploads/2024/03/HERO.jpeg
END:VEVENT
BEGIN:VEVENT
DTSTART;TZID=America/Vancouver:20240519T140000
DTEND;TZID=America/Vancouver:20240519T160000
DTSTAMP:20260423T125155
CREATED:20240504T013602Z
LAST-MODIFIED:20241012T175734Z
UID:934-1716127200-1716134400@theinfidelsjazz.ca
SUMMARY:Jam Session with Sharon Minemoto | Hero's Welcome
DESCRIPTION:Infidels Jazz is proud to announce a new bi-weekly Jazz jam session which will take place Hero’s Welcome at 3917 Main Street\, starting in April at 2PM.\nSharon Minemoto is the perfect musician to host the house band for the first few months\, as she led the jam sessions at Pat’s for years. Joining her in April and May will be some of the city’s finest bassists and drummers\, including Darren Radtke\, Bernie Arai\, Nino DePasquale\, Conrad Good and Dave Robbins.\nThese will be open jam sessions\, which means that everybody from professionals to high school students will be welcome. Helping us in making sure that the jam is accessible to those younger members of our community will be the Fraser MacPherson Jazz Fund\, who has signed on as a sponsor of the Jams. If you’re under the age of 19\, just make sure you have a guardian of legal age with you. You can use the instruments of the house band\, but please be respectful of them.\nDates and personnel are listed below:\n\nMay 05 – Sharon Minemoto\, Conrad Good\, Dave Robbins\nMay 19 – Sharon Minemoto\, Conrad Good\, Dave Robbins\n\nSundays at Hero’s Welcome (3917 Main Street) is a bi-weekly jazz series presented by Tim Reinert of Infidels Jazz. The concept is to provide an affordable way for jazz lovers of all ages to gather and celebrate this music we love.\nAdmission for the jam sessions are only $5. Please note the new time of 2PM
URL:https://theinfidelsjazz.ca/event/jam-session-with-sharon-minemoto-heros-welcome/
LOCATION:Hero’s Welcome\, 3917 Main Street\, Vancouver\, BC\, V5V 3P2\, Canada
CATEGORIES:Concert
ATTACH;FMTTYPE=image/jpeg:https://theinfidelsjazz.ca/wp-content/uploads/2024/04/Infidels-Jazz-Jams-Apr_Mar-Insta.jpg
END:VEVENT
BEGIN:VEVENT
DTSTART;TZID=America/Vancouver:20240523T200000
DTEND;TZID=America/Vancouver:20240523T223000
DTSTAMP:20260423T125155
CREATED:20240508T051117Z
LAST-MODIFIED:20241012T175724Z
UID:943-1716494400-1716503400@theinfidelsjazz.ca
SUMMARY:Cowboy Bebop Bebop Band at Hero's Welcome
DESCRIPTION:Fresh from their sold out show at Tyrant Studios\, the Cowboy Bebop Bebop Band (Led by Steven Zhu) returns\, featuring some of the hottest young Jazz musicians in Vancouver playing the music from your favourite anime ever. \nNikolaj Hansen – Trumpet \nGordy Li – Sax \nAfu Keteca – Bari Sax \nPatrick Kao – Guitar \nRick Son – Guitar \nPiyotr Kao – Bass \nSteven Zhu – Drums \nMay 23rd \nHero’s Welcome – 3917 Main Street\, Vancouver\, BC \n$15 in advance\, $20 at the door. \nBUY TICKETS TODAY!
URL:https://theinfidelsjazz.ca/event/cowboy-bebop-bebop-band-at-heros-welcome/
LOCATION:Hero’s Welcome\, 3917 Main Street\, Vancouver\, BC\, V5V 3P2\, Canada
CATEGORIES:Concert
ATTACH;FMTTYPE=image/png:https://theinfidelsjazz.ca/wp-content/uploads/2024/05/HW-Cowboy-Bebop-5.23-Insta.png
END:VEVENT
BEGIN:VEVENT
DTSTART;TZID=America/Vancouver:20240524T230000
DTEND;TZID=America/Vancouver:20240525T010000
DTSTAMP:20260423T125155
CREATED:20240504T010419Z
LAST-MODIFIED:20241012T175707Z
UID:917-1716591600-1716598800@theinfidelsjazz.ca
SUMMARY:John Lee Trio | Frankie's After Dark
DESCRIPTION:The sound of the John Lee Trio bridges the gap between the past and the future of modern jazz; A collective true to the “straight ahead” sound with a fresh improvisational approach on concise musical arrangements. The trio rarely features original compositions and the most prominent vessel for expression is the interpretation of a song from the Great American Songbook or a composition by a Jazz giant born in the early 20th century.\nFor this Frankie’s After Dark Performance John will be joined by Kosma Busheikin on bass\, and Graham Villette on drums.\nFrankie’s After Dark takes place every Friday and Saturday at Frankie’s Jazz Club in downtown Vancouver and is curated by Tim Reinert of Infidels Jazz. Shows start at 11:00PM and tickets are $10.
URL:https://theinfidelsjazz.ca/event/john-lee-trio-frankies-after-dark/
LOCATION:Frankie’s Jazz Club\, 755 Beatty St\, Vancouver\, British Columbia\, V6B 2M4\, Canada
CATEGORIES:Concert
ATTACH;FMTTYPE=image/png:https://theinfidelsjazz.ca/wp-content/uploads/2024/04/05.24.24.png
END:VEVENT
BEGIN:VEVENT
DTSTART;TZID=America/Vancouver:20240525T230000
DTEND;TZID=America/Vancouver:20240526T003000
DTSTAMP:20260423T125155
CREATED:20240504T005952Z
LAST-MODIFIED:20241012T180458Z
UID:915-1716678000-1716683400@theinfidelsjazz.ca
SUMMARY:Dante André-Kahan plays John Abercrombie | Frankie's
DESCRIPTION:Dante André-Kahan is a Vancouver-based guitarist and percussionist originally from the Saanich Peninsula on Vancouver Island\, British Columbia. Having grown up playing in school wind and jazz ensembles\, writing music\, and studying musicology and classical guitar at the University of Victoria\, Dante is now emerging from a creative hiatus into the Vancouver jazz scene. His eclectic approach to guitar playing and composition is informed by many techniques and musical traditions\, but above all Dante strives to play every note with meaning\, feel comfortable with space and silence in music\, and bring people together in his community.\nDante first conceived of this tribute project to the music of John Abercrombie at the beginning of the Covid-19 pandemic\, listening to Abercrombies albums while working in his grandparents garden. He sees the potential for this music to complement the pastoral landscapes of southwestern British Columbia and is excited to bring it to his part of the world.\nFor this Frankies After Dark performance Dante will be joined by Gabriel Dubreuil on violin\, David Caballero on bass\, and Dan Gaucher on drums. \nNO RESERVATION REQUIRED Walk-in only.
URL:https://theinfidelsjazz.ca/event/dante-andre-kahan-plays-john-abercrombie-frankies/
LOCATION:Frankie’s Jazz Club\, 755 Beatty St\, Vancouver\, British Columbia\, V6B 2M4\, Canada
CATEGORIES:Concert
ATTACH;FMTTYPE=image/png:https://theinfidelsjazz.ca/wp-content/uploads/2024/04/05.25.24.png
END:VEVENT
BEGIN:VEVENT
DTSTART;TZID=America/Vancouver:20240526T140000
DTEND;TZID=America/Vancouver:20240526T160000
DTSTAMP:20260423T125155
CREATED:20240504T013921Z
LAST-MODIFIED:20241012T180450Z
UID:936-1716732000-1716739200@theinfidelsjazz.ca
SUMMARY:Quatuor André Lachance at Hero's Welcome
DESCRIPTION:Drawing on jazz\, rock\, and electric improvisation\, one of Canada’s top bassists André Lachance switches to guitar for this dazzling mix of cool tunes\, pulsing grooves\, and cosmically compelling sonic excursions. His Quatuor features fellow Renaissance men Chris Gestrin – Moog/Keyboards\, Jon Bentley – Saxophones\, and Brad Turner – drums.\nSundays at Hero’s Welcome (3917 Main Street) is a weekly jazz series presented by Tim Reinert of Infidels Jazz. The concept is to provide an affordable way for jazz lovers of all ages to gather and celebrate this music we love.\nPlease note the new admission cost of $10. Also please note the new start time of 2PM
URL:https://theinfidelsjazz.ca/event/quatuor-andre-lachance-at-heros-welcome/
LOCATION:Hero’s Welcome\, 3917 Main Street\, Vancouver\, BC\, V5V 3P2\, Canada
CATEGORIES:Concert
ATTACH;FMTTYPE=image/jpeg:https://theinfidelsjazz.ca/wp-content/uploads/2024/04/HW-Infidels-Jazz-May-26-Insta.jpg
END:VEVENT
BEGIN:VEVENT
DTSTART;TZID=America/Vancouver:20240531T230000
DTEND;TZID=America/Vancouver:20240601T013000
DTSTAMP:20260423T125155
CREATED:20240423T052302Z
LAST-MODIFIED:20241012T180442Z
UID:911-1717196400-1717205400@theinfidelsjazz.ca
SUMMARY:Rick Son Trio at Frankie's After Dark
DESCRIPTION:Rick Son is a Vancouver-based composer/pianist who will lead a trio at Frankies Jazz Club. The trio will be playing originals and interpretations of works by masters. Borrowing sounds from jazz and ECM\, Rick invites the audience to engage in the detailed narrative the trio has to offer.\nFor this Frankies After Dark Performance he will be joined by Piyotr Kao on upright bass\, and Todd Stewart on drums. \nNO RESERVATION REQUIRED Walk-in only.
URL:https://theinfidelsjazz.ca/event/rick-son-trio-at-frankies-after-dark/
LOCATION:Frankie’s Jazz Club\, 755 Beatty St\, Vancouver\, British Columbia\, V6B 2M4\, Canada
CATEGORIES:Concert
ATTACH;FMTTYPE=image/png:https://theinfidelsjazz.ca/wp-content/uploads/2024/04/05.31.24.png
END:VEVENT
END:VCALENDAR