BEGIN:VCALENDAR
VERSION:2.0
PRODID:-//Infidels Jazz - ECPv6.15.12.2//NONSGML v1.0//EN
CALSCALE:GREGORIAN
METHOD:PUBLISH
X-WR-CALNAME:Infidels Jazz
X-ORIGINAL-URL:https://theinfidelsjazz.ca
X-WR-CALDESC:Events for Infidels Jazz
REFRESH-INTERVAL;VALUE=DURATION:PT1H
X-Robots-Tag:noindex
X-PUBLISHED-TTL:PT1H
BEGIN:VTIMEZONE
TZID:America/Vancouver
BEGIN:DAYLIGHT
TZOFFSETFROM:-0800
TZOFFSETTO:-0700
TZNAME:PDT
DTSTART:20230312T100000
END:DAYLIGHT
BEGIN:STANDARD
TZOFFSETFROM:-0700
TZOFFSETTO:-0800
TZNAME:PST
DTSTART:20231105T090000
END:STANDARD
BEGIN:DAYLIGHT
TZOFFSETFROM:-0800
TZOFFSETTO:-0700
TZNAME:PDT
DTSTART:20240310T100000
END:DAYLIGHT
BEGIN:STANDARD
TZOFFSETFROM:-0700
TZOFFSETTO:-0800
TZNAME:PST
DTSTART:20241103T090000
END:STANDARD
BEGIN:DAYLIGHT
TZOFFSETFROM:-0800
TZOFFSETTO:-0700
TZNAME:PDT
DTSTART:20250309T100000
END:DAYLIGHT
BEGIN:STANDARD
TZOFFSETFROM:-0700
TZOFFSETTO:-0800
TZNAME:PST
DTSTART:20251102T090000
END:STANDARD
END:VTIMEZONE
BEGIN:VEVENT
DTSTART;TZID=America/Vancouver:20241208T140000
DTEND;TZID=America/Vancouver:20241208T170000
DTSTAMP:20260419T074237
CREATED:20241120T012058Z
LAST-MODIFIED:20241120T012137Z
UID:1442-1733666400-1733677200@theinfidelsjazz.ca
SUMMARY:James Danderfer Sextet: A Tribute to Artie Shaw at VIFF Centre
DESCRIPTION:One of the most popular and intriguing big band leaders of the Swing era\, Artie Shaw took jazz clarinet to a new level of artistry and celebrity. On occasion\, Shaw would tour with a smaller group\, his Gramercy Five\, which became one of the fixtures of small group swing. Come and enjoy a rare performance of this melodic and jubilant music featuring James Danderfer clarinet\, Bill Coon guitar\, Sharon Minemoto piano\, Max Huberdeau vibraphone\, Dan Howard bass and Joe Poole drums\, to be followed by a screening of Artie Shaw: Time Is All You’ve Got. \nArtie Shaw: Time Is All You’ve Got (1985\, 115 min)\nAnchored by an incisive interview with its then 72-year-old subject\, Artie Shaw: Time is All You’ve Got looks back on the five-decade career of “King of the Clarinet” Artie Shaw (1910-2004)\, one of the most popular stars of the 1930s and ’40s Swing era. Brigitte Berman’s film won the Academy Award for Best Documentary in 1985\, and is screening in a new 4K restoration. Featuring: Artie Shaw\, Polly Haynes\, John Wexley\, Lee Castle\, John Best\, Helen Forrest\, Buddy Rich\, Mel Tormé. \nIn an era of separate white and Black bands\, Shaw broke the color barrier by hiring legendary African American musicians like Billie Holiday\, Hot Lips Page and Roy Eldridge for his bands. Shaw’s restlessness and intellectual curiosity (he’d author four books of fiction and non-fiction) led him to shun celebrity and retire from show business in the late 1940s\, with only occasional comebacks after. Known also as a ladies’ man\, Shaw’s eight wives included actresses Ava Gardner\, Lana Turner\, Doris Dowling\, Evelyn Keyes\, and novelist Kathleen Winsor\, author of the notoriously racy bestseller Forever Amber.
URL:https://theinfidelsjazz.ca/event/james-danderfer-sextet-a-tribute-to-artie-shaw-at-viff-centre/
LOCATION:VIFF Centre\, 1181 Seymour Street\, Vancouver\, BC\, V6B 3M7\, Canada
CATEGORIES:Concert,Film
ATTACH;FMTTYPE=image/jpeg:https://theinfidelsjazz.ca/wp-content/uploads/2024/11/LIVE_ArtieShaw_IG_REV2-2.jpg
END:VEVENT
END:VCALENDAR