BEGIN:VCALENDAR
VERSION:2.0
PRODID:-//Infidels Jazz - ECPv6.15.12.2//NONSGML v1.0//EN
CALSCALE:GREGORIAN
METHOD:PUBLISH
X-WR-CALNAME:Infidels Jazz
X-ORIGINAL-URL:https://theinfidelsjazz.ca
X-WR-CALDESC:Events for Infidels Jazz
REFRESH-INTERVAL;VALUE=DURATION:PT1H
X-Robots-Tag:noindex
X-PUBLISHED-TTL:PT1H
BEGIN:VTIMEZONE
TZID:America/Vancouver
BEGIN:DAYLIGHT
TZOFFSETFROM:-0800
TZOFFSETTO:-0700
TZNAME:PDT
DTSTART:20230312T100000
END:DAYLIGHT
BEGIN:STANDARD
TZOFFSETFROM:-0700
TZOFFSETTO:-0800
TZNAME:PST
DTSTART:20231105T090000
END:STANDARD
BEGIN:DAYLIGHT
TZOFFSETFROM:-0800
TZOFFSETTO:-0700
TZNAME:PDT
DTSTART:20240310T100000
END:DAYLIGHT
BEGIN:STANDARD
TZOFFSETFROM:-0700
TZOFFSETTO:-0800
TZNAME:PST
DTSTART:20241103T090000
END:STANDARD
BEGIN:DAYLIGHT
TZOFFSETFROM:-0800
TZOFFSETTO:-0700
TZNAME:PDT
DTSTART:20250309T100000
END:DAYLIGHT
BEGIN:STANDARD
TZOFFSETFROM:-0700
TZOFFSETTO:-0800
TZNAME:PST
DTSTART:20251102T090000
END:STANDARD
END:VTIMEZONE
BEGIN:VEVENT
DTSTART;TZID=America/Vancouver:20241124T180000
DTEND;TZID=America/Vancouver:20241124T213000
DTSTAMP:20260419T141311
CREATED:20241106T010135Z
LAST-MODIFIED:20241106T010135Z
UID:1363-1732471200-1732483800@theinfidelsjazz.ca
SUMMARY:Vince Mai Plays Chet Baker + Let's Get Lost at VIFF Centre
DESCRIPTION:A set of smooth\, sublime\, and smoky jazz from trumpeter Vince Mai backed up by a stellar band with Steve Maddock on vocals. The set will feature many beloved Chet Baker standards and more in the same vein\, followed by the first local screening of Bruce Weber’s documentary about Baker\, one of essential films about jazz. \nMiles Black: Keys\nLaurence Mollerup: Upright bass\nBernie Arai: Drums\nSteve Maddock: Vocals\nVince Mai: Trumpet \nAbout Let’s Get Lost (Bruce Weber\, 1988\, 120 min) \nWith his languid\, cool horn and broken hearted vocal stylings Chet Baker became an icon in the 1950s (it didn’t hurt that he looked like Jimmy Dean). Years of drug addiction hampered his career and hinted at underlying issues\, but he continued to sing and play with haunting delicacy. Photographer Bruce Weber documented his last tour in the 1980s. One of the essential jazz films\, this is achingly tender\, steeped in beautiful music and black and white photography; a love letter to a lost soul. \nThe finest jazz movie ever made. Empire Magazine \nA gorgeous gravestone for the Beat Generation’s legacy of beautiful-loser chic. Jim Ridley\, The Village Voice
URL:https://theinfidelsjazz.ca/event/vince-mai-plays-chet-baker-lets-get-lost-at-viff-centre/
LOCATION:VIFF Centre\, 1181 Seymour Street\, Vancouver\, BC\, V6B 3M7\, Canada
CATEGORIES:Concert,Film
ATTACH;FMTTYPE=image/jpeg:https://theinfidelsjazz.ca/wp-content/uploads/2024/10/20241124_LIVE_VinceMai_IG.jpg
END:VEVENT
END:VCALENDAR