BEGIN:VCALENDAR
VERSION:2.0
PRODID:-//Infidels Jazz - ECPv6.15.12.2//NONSGML v1.0//EN
CALSCALE:GREGORIAN
METHOD:PUBLISH
X-WR-CALNAME:Infidels Jazz
X-ORIGINAL-URL:https://theinfidelsjazz.ca
X-WR-CALDESC:Events for Infidels Jazz
REFRESH-INTERVAL;VALUE=DURATION:PT1H
X-Robots-Tag:noindex
X-PUBLISHED-TTL:PT1H
BEGIN:VTIMEZONE
TZID:America/Vancouver
BEGIN:DAYLIGHT
TZOFFSETFROM:-0800
TZOFFSETTO:-0700
TZNAME:PDT
DTSTART:20230312T100000
END:DAYLIGHT
BEGIN:STANDARD
TZOFFSETFROM:-0700
TZOFFSETTO:-0800
TZNAME:PST
DTSTART:20231105T090000
END:STANDARD
BEGIN:DAYLIGHT
TZOFFSETFROM:-0800
TZOFFSETTO:-0700
TZNAME:PDT
DTSTART:20240310T100000
END:DAYLIGHT
BEGIN:STANDARD
TZOFFSETFROM:-0700
TZOFFSETTO:-0800
TZNAME:PST
DTSTART:20241103T090000
END:STANDARD
BEGIN:DAYLIGHT
TZOFFSETFROM:-0800
TZOFFSETTO:-0700
TZNAME:PDT
DTSTART:20250309T100000
END:DAYLIGHT
BEGIN:STANDARD
TZOFFSETFROM:-0700
TZOFFSETTO:-0800
TZNAME:PST
DTSTART:20251102T090000
END:STANDARD
END:VTIMEZONE
BEGIN:VEVENT
DTSTART;TZID=America/Vancouver:20241116T190000
DTEND;TZID=America/Vancouver:20241116T210000
DTSTAMP:20260419T141149
CREATED:20241106T010059Z
LAST-MODIFIED:20241106T010059Z
UID:1361-1731783600-1731790800@theinfidelsjazz.ca
SUMMARY:Feven Kidane Quartet + Soundtrack to a Coup d’Etat at VIFF Centre
DESCRIPTION:A fierce talent on the local jazz scene\, trumpeter Feven Kidane presents a very special set of original music inspired by the documentary Soundtrack to a Coup d’Etat… music which seeks to connect with the film and embody a learning spirit\, remembrance\, and decades-old shared grief. \nFeven explains\, “this film gives me mixed feelings. not mixed as in “i’m half in”\, but mixed in the fact that the content itself is so emotional that my horn will have to work extra hard. mixed in the fact that its honesty hurts me. this film has me enraged\, inspired\, and activated. it gives me hope for a united Blackness\, but upset by constant thwarted plans for its achievement.” \nFor this occasion\, Feven’s band consists of Quincy Mayes on keys\, Bernie Arai on drums\, and Milo Johnson on bass. \nAbout Soundtrack to a Coup d’Etat:\nArtfully juxtaposing archival news reports\, investigative interviews\, and jazz\, Johan Grimonprez’s essay film takes a fresh look at the notorious events in the wake of Congo’s independence in the early 1960s\, culminating in the assassination of the country’s first democratically-elected leader\, Patrice Lumumba. It’s a film about the deceit at the heart of colonialism\, and about how jazz (Louis Armstrong\, Dizzy Gillespie\, Max Roach) figured into the politics of the Cold War and Black Liberation.
URL:https://theinfidelsjazz.ca/event/feven-kidane-quartet-soundtrack-to-a-coup-detat-at-viff-centre/
LOCATION:VIFF Centre\, 1181 Seymour Street\, Vancouver\, BC\, V6B 3M7\, Canada
CATEGORIES:Concert,Film
ATTACH;FMTTYPE=image/jpeg:https://theinfidelsjazz.ca/wp-content/uploads/2024/10/20241116_LIVE_FevenKidane_IG.jpg
END:VEVENT
END:VCALENDAR