BEGIN:VCALENDAR
VERSION:2.0
PRODID:-//Infidels Jazz - ECPv6.15.12.2//NONSGML v1.0//EN
CALSCALE:GREGORIAN
METHOD:PUBLISH
X-ORIGINAL-URL:https://theinfidelsjazz.ca
X-WR-CALDESC:Events for Infidels Jazz
REFRESH-INTERVAL;VALUE=DURATION:PT1H
X-Robots-Tag:noindex
X-PUBLISHED-TTL:PT1H
BEGIN:VTIMEZONE
TZID:America/Vancouver
BEGIN:DAYLIGHT
TZOFFSETFROM:-0800
TZOFFSETTO:-0700
TZNAME:PDT
DTSTART:20250309T100000
END:DAYLIGHT
BEGIN:STANDARD
TZOFFSETFROM:-0700
TZOFFSETTO:-0800
TZNAME:PST
DTSTART:20251102T090000
END:STANDARD
BEGIN:DAYLIGHT
TZOFFSETFROM:-0800
TZOFFSETTO:-0700
TZNAME:PDT
DTSTART:20260308T100000
END:DAYLIGHT
BEGIN:STANDARD
TZOFFSETFROM:-0700
TZOFFSETTO:-0800
TZNAME:PST
DTSTART:20261101T090000
END:STANDARD
BEGIN:DAYLIGHT
TZOFFSETFROM:-0800
TZOFFSETTO:-0700
TZNAME:PDT
DTSTART:20270314T100000
END:DAYLIGHT
BEGIN:STANDARD
TZOFFSETFROM:-0700
TZOFFSETTO:-0800
TZNAME:PST
DTSTART:20271107T090000
END:STANDARD
END:VTIMEZONE
BEGIN:VEVENT
DTSTART;TZID=America/Vancouver:20260131T200000
DTEND;TZID=America/Vancouver:20260131T220000
DTSTAMP:20260422T122200
CREATED:20251211T220059Z
LAST-MODIFIED:20251211T220059Z
UID:3295-1769889600-1769896800@theinfidelsjazz.ca
SUMMARY:Parmela Attariwala at Zameen Art House
DESCRIPTION:Violin improvisations with Vancouver’s most exciting musicians \nGet Tickets\nParmela Attariwala has been at the forefront of the Canadian creative music scene for decades\, having worked with Carla Bley\, Don Thompson\, Anthony Braxton\, the NOW Orchestra\, and many other luminaries in her roles as composer\, violinist\, and bandleader. \nShe’ll be performing her first Infidels show on January 31 as part of the New Thing\, collaborating with Julia Ulehla (vocals)\, Cole Schmidt (guitar) & John Brennan (Drums). \nThe New Thing is a monthly series featuring the best of Vancouver’s creative & improvised music scene. It’s presented by Infidels Jazz\, with support from the Vancouver Jazz Orchestra Society. \nParmela Attariwala \nZameen Art House 1515 Anderson \nDoors: 730PM \nShow: 800PM \n$20 in advance\, $25 at the door \nJanuary 31\, 2026
URL:https://theinfidelsjazz.ca/event/parmela-attariwala-at-zameen-art-house/
LOCATION:Zameen Art House\, 1515 Anderson St\, Vancouver\, BC\, V6H 3R5\, Canada
CATEGORIES:Concert
ATTACH;FMTTYPE=image/jpeg:https://theinfidelsjazz.ca/wp-content/uploads/2025/12/20260131_Zameen_Parmela-scaled.jpg
END:VEVENT
BEGIN:VEVENT
DTSTART;TZID=America/Vancouver:20260131T230000
DTEND;TZID=America/Vancouver:20260201T001500
DTSTAMP:20260422T122200
CREATED:20251225T071954Z
LAST-MODIFIED:20251225T071954Z
UID:3436-1769900400-1769904900@theinfidelsjazz.ca
SUMMARY:Clara Lin Plays Nina Simone
DESCRIPTION:Clara Lin is a pianist and vocalist based in Vancouver\, originally from China. Classically trained from a young age\, she holds a BM in Jazz Composition from Berklee College of Music and an MM in Jazz Studies from the University of Northern Colorado. These experiences helped her grow alongside some of the best musicians and develop her versatility and skill. Clara recently released her single\, “You and I.”\nFor Clara\, music is more than just a career—it’s a way of life she can’t live without\, and a language for connecting and spending time with friends. In this show\, she will be leading a trio featuring her favorrite friends—bassist Emilio Suárez and drummer Karl DeJong—for a night of soulful\, joyful\, and swinging music in tribute to jazz legend Nina Simone.\nFrankie’s After Dark takes place every Friday & Saturday night at Frankie’s Jazz Club (755 Beatty) at 11PM. Tickets are $10 and are added to your bill at the end of the night. This series is curated & presented by Infidels Jazz.
URL:https://theinfidelsjazz.ca/event/clara-lin-plays-nina-simone/
LOCATION:Frankie’s Jazz Club\, 755 Beatty St\, Vancouver\, British Columbia\, V6B 2M4\, Canada
CATEGORIES:Concert
ATTACH;FMTTYPE=image/png:https://theinfidelsjazz.ca/wp-content/uploads/2025/12/01312026-AD-ClaraLin.png
END:VEVENT
END:VCALENDAR