BEGIN:VCALENDAR
VERSION:2.0
PRODID:-//Infidels Jazz - ECPv6.15.12.2//NONSGML v1.0//EN
CALSCALE:GREGORIAN
METHOD:PUBLISH
X-ORIGINAL-URL:https://theinfidelsjazz.ca
X-WR-CALDESC:Events for Infidels Jazz
REFRESH-INTERVAL;VALUE=DURATION:PT1H
X-Robots-Tag:noindex
X-PUBLISHED-TTL:PT1H
BEGIN:VTIMEZONE
TZID:America/Vancouver
BEGIN:DAYLIGHT
TZOFFSETFROM:-0800
TZOFFSETTO:-0700
TZNAME:PDT
DTSTART:20230312T100000
END:DAYLIGHT
BEGIN:STANDARD
TZOFFSETFROM:-0700
TZOFFSETTO:-0800
TZNAME:PST
DTSTART:20231105T090000
END:STANDARD
BEGIN:DAYLIGHT
TZOFFSETFROM:-0800
TZOFFSETTO:-0700
TZNAME:PDT
DTSTART:20240310T100000
END:DAYLIGHT
BEGIN:STANDARD
TZOFFSETFROM:-0700
TZOFFSETTO:-0800
TZNAME:PST
DTSTART:20241103T090000
END:STANDARD
BEGIN:DAYLIGHT
TZOFFSETFROM:-0800
TZOFFSETTO:-0700
TZNAME:PDT
DTSTART:20250309T100000
END:DAYLIGHT
BEGIN:STANDARD
TZOFFSETFROM:-0700
TZOFFSETTO:-0800
TZNAME:PST
DTSTART:20251102T090000
END:STANDARD
END:VTIMEZONE
BEGIN:VEVENT
DTSTART;TZID=America/Vancouver:20240802T230000
DTEND;TZID=America/Vancouver:20240803T003000
DTSTAMP:20260423T184324
CREATED:20240713T024037Z
LAST-MODIFIED:20241012T181207Z
UID:1055-1722639600-1722645000@theinfidelsjazz.ca
SUMMARY:Matt Choboter Quartet with Brad Turner
DESCRIPTION:In 2016 the Matt Choboter trio teamed up with Brad Turner and performed original music for the Vancouver International Jazz Festival (Vogue Theatre) as the opening act for Joe Lovano. 8 years later\, we come together once again. This time\, with an open andplayful approach to selected repertoire of the American Jazz songbook. For this special After Dark performance this band will feature: Brad Turner (Trumpet)\, Matt Choboter (piano)\, Wynston Minckler (double bass)\, and Andrew Thomson (drum set)\nFrankie’s After Dark takes place every Friday and Saturday at Frankie’s Jazz Club in downtown Vancouver and is curated by Tim Reinert of Infidels Jazz. Shows start at 11:00PM and tickets are $10
URL:https://theinfidelsjazz.ca/event/matt-choboter-quartet-with-brad-turner/
LOCATION:Frankie’s Jazz Club\, 755 Beatty St\, Vancouver\, British Columbia\, V6B 2M4\, Canada
CATEGORIES:Concert
ATTACH;FMTTYPE=image/png:https://theinfidelsjazz.ca/wp-content/uploads/2024/07/08.02.24.png
END:VEVENT
END:VCALENDAR