BEGIN:VCALENDAR
VERSION:2.0
PRODID:-//Infidels Jazz - ECPv6.15.12.2//NONSGML v1.0//EN
CALSCALE:GREGORIAN
METHOD:PUBLISH
X-WR-CALNAME:Infidels Jazz
X-ORIGINAL-URL:https://theinfidelsjazz.ca
X-WR-CALDESC:Events for Infidels Jazz
REFRESH-INTERVAL;VALUE=DURATION:PT1H
X-Robots-Tag:noindex
X-PUBLISHED-TTL:PT1H
BEGIN:VTIMEZONE
TZID:America/Vancouver
BEGIN:DAYLIGHT
TZOFFSETFROM:-0800
TZOFFSETTO:-0700
TZNAME:PDT
DTSTART:20230312T100000
END:DAYLIGHT
BEGIN:STANDARD
TZOFFSETFROM:-0700
TZOFFSETTO:-0800
TZNAME:PST
DTSTART:20231105T090000
END:STANDARD
BEGIN:DAYLIGHT
TZOFFSETFROM:-0800
TZOFFSETTO:-0700
TZNAME:PDT
DTSTART:20240310T100000
END:DAYLIGHT
BEGIN:STANDARD
TZOFFSETFROM:-0700
TZOFFSETTO:-0800
TZNAME:PST
DTSTART:20241103T090000
END:STANDARD
BEGIN:DAYLIGHT
TZOFFSETFROM:-0800
TZOFFSETTO:-0700
TZNAME:PDT
DTSTART:20250309T100000
END:DAYLIGHT
BEGIN:STANDARD
TZOFFSETFROM:-0700
TZOFFSETTO:-0800
TZNAME:PST
DTSTART:20251102T090000
END:STANDARD
END:VTIMEZONE
BEGIN:VEVENT
DTSTART;TZID=America/Vancouver:20240707T140000
DTEND;TZID=America/Vancouver:20240707T170000
DTSTAMP:20260423T154937
CREATED:20240613T055555Z
LAST-MODIFIED:20241012T180146Z
UID:1021-1720360800-1720371600@theinfidelsjazz.ca
SUMMARY:Ardeshir Quartet at Hero's Welcome
DESCRIPTION:One of the finest tenor players in the country makes his return to the Hero’s Welcome stage! Ardeshir will be joined by by Winston Matsushita\, David Caballero & Graham Villette!\nSundays at Hero’s Welcome (3917 Main Street) is a weekly jazz series presented by Tim Reinert of Infidels Jazz. The concept is to provide an affordable way for jazz lovers of all ages to gather and celebrate this music we love.\nPlease note the new admission cost of $10. Also please note the new start time of 2PM
URL:https://theinfidelsjazz.ca/event/ardeshir-quartet-at-heros-welcome/
LOCATION:Hero’s Welcome\, 3917 Main Street\, Vancouver\, BC\, V5V 3P2\, Canada
CATEGORIES:Concert
ATTACH;FMTTYPE=image/jpeg:https://theinfidelsjazz.ca/wp-content/uploads/2024/06/HW-Infidels-Jazz-Jul.-7-Insta-1.jpg
END:VEVENT
END:VCALENDAR