BEGIN:VCALENDAR
VERSION:2.0
PRODID:-//Infidels Jazz - ECPv6.15.12.2//NONSGML v1.0//EN
CALSCALE:GREGORIAN
METHOD:PUBLISH
X-ORIGINAL-URL:https://theinfidelsjazz.ca
X-WR-CALDESC:Events for Infidels Jazz
REFRESH-INTERVAL;VALUE=DURATION:PT1H
X-Robots-Tag:noindex
X-PUBLISHED-TTL:PT1H
BEGIN:VTIMEZONE
TZID:America/Vancouver
BEGIN:DAYLIGHT
TZOFFSETFROM:-0800
TZOFFSETTO:-0700
TZNAME:PDT
DTSTART:20230312T100000
END:DAYLIGHT
BEGIN:STANDARD
TZOFFSETFROM:-0700
TZOFFSETTO:-0800
TZNAME:PST
DTSTART:20231105T090000
END:STANDARD
BEGIN:DAYLIGHT
TZOFFSETFROM:-0800
TZOFFSETTO:-0700
TZNAME:PDT
DTSTART:20240310T100000
END:DAYLIGHT
BEGIN:STANDARD
TZOFFSETFROM:-0700
TZOFFSETTO:-0800
TZNAME:PST
DTSTART:20241103T090000
END:STANDARD
BEGIN:DAYLIGHT
TZOFFSETFROM:-0800
TZOFFSETTO:-0700
TZNAME:PDT
DTSTART:20250309T100000
END:DAYLIGHT
BEGIN:STANDARD
TZOFFSETFROM:-0700
TZOFFSETTO:-0800
TZNAME:PST
DTSTART:20251102T090000
END:STANDARD
END:VTIMEZONE
BEGIN:VEVENT
DTSTART;TZID=America/Vancouver:20240705T230000
DTEND;TZID=America/Vancouver:20240706T010000
DTSTAMP:20260423T111343
CREATED:20240613T054638Z
LAST-MODIFIED:20241012T180203Z
UID:999-1720220400-1720227600@theinfidelsjazz.ca
SUMMARY:Jason De Couto Trio at Frankie’s Jazz Club
DESCRIPTION:The Jason de Couto Organ Trio is a Vancouver organ trio led by Jason de Couto on Hammond B3 Organ\, and features Alvin Brendan on Guitar and Buff Allen on Drums. All three members are active and integral musicians in the local music scene and work in a variety of ensembles as leaders and sidemen. They have come together to form a unique and dynamic sound rarely heard in Vancouver\, featuring the mighty Hammond Organ. The group plays a mix of Jazz\, Funk\, Pop\, Latin\, and Blues music\, with influences ranging from Jimmy Smith\, Dr. Lonnie Smith\, and Jimmy McGriff\, to Larry Goldings\, Sam Yahel\, and Joey deFrancesco.\nFor this After Dark performance Jason will be joined by Alvin Brendan on Guitar and Buff Allen on Drums.\nFrankie’s After Dark takes place every Friday and Saturday at Frankie’s Jazz Club in downtown Vancouver and is curated by Tim Reinert of Infidels Jazz. Shows start at 11:00PM and tickets are $10.
URL:https://theinfidelsjazz.ca/event/jason-de-couto-trio-at-frankies-jazz-club/
LOCATION:Frankie’s Jazz Club\, 755 Beatty St\, Vancouver\, British Columbia\, V6B 2M4\, Canada
ATTACH;FMTTYPE=image/png:https://theinfidelsjazz.ca/wp-content/uploads/2024/06/07.05.24.png
END:VEVENT
END:VCALENDAR