BEGIN:VCALENDAR
VERSION:2.0
PRODID:-//Infidels Jazz - ECPv6.15.12.2//NONSGML v1.0//EN
CALSCALE:GREGORIAN
METHOD:PUBLISH
X-ORIGINAL-URL:https://theinfidelsjazz.ca
X-WR-CALDESC:Events for Infidels Jazz
REFRESH-INTERVAL;VALUE=DURATION:PT1H
X-Robots-Tag:noindex
X-PUBLISHED-TTL:PT1H
BEGIN:VTIMEZONE
TZID:America/Vancouver
BEGIN:DAYLIGHT
TZOFFSETFROM:-0800
TZOFFSETTO:-0700
TZNAME:PDT
DTSTART:20230312T100000
END:DAYLIGHT
BEGIN:STANDARD
TZOFFSETFROM:-0700
TZOFFSETTO:-0800
TZNAME:PST
DTSTART:20231105T090000
END:STANDARD
BEGIN:DAYLIGHT
TZOFFSETFROM:-0800
TZOFFSETTO:-0700
TZNAME:PDT
DTSTART:20240310T100000
END:DAYLIGHT
BEGIN:STANDARD
TZOFFSETFROM:-0700
TZOFFSETTO:-0800
TZNAME:PST
DTSTART:20241103T090000
END:STANDARD
BEGIN:DAYLIGHT
TZOFFSETFROM:-0800
TZOFFSETTO:-0700
TZNAME:PDT
DTSTART:20250309T100000
END:DAYLIGHT
BEGIN:STANDARD
TZOFFSETFROM:-0700
TZOFFSETTO:-0800
TZNAME:PST
DTSTART:20251102T090000
END:STANDARD
END:VTIMEZONE
BEGIN:VEVENT
DTSTART;TZID=America/Vancouver:20240622T230000
DTEND;TZID=America/Vancouver:20240623T010000
DTSTAMP:20260423T184340
CREATED:20240613T053211Z
LAST-MODIFIED:20241012T180238Z
UID:997-1719097200-1719104400@theinfidelsjazz.ca
SUMMARY:Aquiles Navarro & Tcheser Holmes at Frankie's After Dark
DESCRIPTION:Afro-Caribbean improvisational trumpet-and-percussion duo Aquiles Navarro & Tcheser Holmes\, are longtime friends\, collaborators\, devotees of New York City’s creative music scenes\, and members of celebrated free jazz collective Irreversible Entanglements. In September of 2014\, Navarro and Holmes self-released an album of improvisations that they’d recorded in Panama earlier that summer. The following spring\, they were invited to perform at The Silent Barn in Brooklyn\, an event organized by Musicians Against Police Brutality as a benefit for the family of Akai Gurley (a Black man who was killed by a NYPD officer). The duo took the stage immediately before a formalizing performance by Camae Ayewa (aka Moor Mother)\, Keir Neuringer and Luke Stewart\, a trio that would soon adopt the name Irreversible Entanglements\, as well as Navarro and Holmes themselves.\nIn the Fall of 2019\, Navarro and Holmes went into the studio again\, booking two after-hours sessions at Brooklyn’s S1 Studios. The resulting album – Heritage of the Invisible II – reveals Navarro and Holmes stepping firmly into the limelight of progressive music-making.\nAquiles Navarro on Trumpet & Tcheser Holmes on Drums\nFrankie’s After Dark takes place every Friday and Saturday at Frankie’s Jazz Club in downtown Vancouver and is curated by Tim Reinert of Infidels Jazz. Shows start at 11:00PM and tickets are $10.
URL:https://theinfidelsjazz.ca/event/aquiles-navarro-tcheser-holmes-at-frankies-after-dark/
LOCATION:Frankie’s Jazz Club\, 755 Beatty St\, Vancouver\, British Columbia\, V6B 2M4\, Canada
CATEGORIES:Concert
ATTACH;FMTTYPE=image/jpeg:https://theinfidelsjazz.ca/wp-content/uploads/2024/06/Aquiles.jpg
END:VEVENT
END:VCALENDAR