BEGIN:VCALENDAR
VERSION:2.0
PRODID:-//Infidels Jazz - ECPv6.15.12.2//NONSGML v1.0//EN
CALSCALE:GREGORIAN
METHOD:PUBLISH
X-WR-CALNAME:Infidels Jazz
X-ORIGINAL-URL:https://theinfidelsjazz.ca
X-WR-CALDESC:Events for Infidels Jazz
REFRESH-INTERVAL;VALUE=DURATION:PT1H
X-Robots-Tag:noindex
X-PUBLISHED-TTL:PT1H
BEGIN:VTIMEZONE
TZID:America/Vancouver
BEGIN:DAYLIGHT
TZOFFSETFROM:-0800
TZOFFSETTO:-0700
TZNAME:PDT
DTSTART:20230312T100000
END:DAYLIGHT
BEGIN:STANDARD
TZOFFSETFROM:-0700
TZOFFSETTO:-0800
TZNAME:PST
DTSTART:20231105T090000
END:STANDARD
BEGIN:DAYLIGHT
TZOFFSETFROM:-0800
TZOFFSETTO:-0700
TZNAME:PDT
DTSTART:20240310T100000
END:DAYLIGHT
BEGIN:STANDARD
TZOFFSETFROM:-0700
TZOFFSETTO:-0800
TZNAME:PST
DTSTART:20241103T090000
END:STANDARD
BEGIN:DAYLIGHT
TZOFFSETFROM:-0800
TZOFFSETTO:-0700
TZNAME:PDT
DTSTART:20250309T100000
END:DAYLIGHT
BEGIN:STANDARD
TZOFFSETFROM:-0700
TZOFFSETTO:-0800
TZNAME:PST
DTSTART:20251102T090000
END:STANDARD
END:VTIMEZONE
BEGIN:VEVENT
DTSTART;TZID=America/Vancouver:20240620T210000
DTEND;TZID=America/Vancouver:20240620T230000
DTSTAMP:20260423T154957
CREATED:20240508T051743Z
LAST-MODIFIED:20241012T180255Z
UID:948-1718917200-1718924400@theinfidelsjazz.ca
SUMMARY:Kahil El'Zabar & David Murray at Pyatt Hall
DESCRIPTION:This is the very first Vancouver duo performance of Kahil El’Zabar & David Murray. These Jazz legends have been collaborating together for over 40 years\, and have performed together all over the world to sold out audiences. \nSir Kahil El’Zabar\, was Knighted by the Council General of France for his Global contributions to the Arts. He has performed with luminaries like Dizzy Gillespie\, Cannonball Adderley\, Pharoah Sanders\, Nina Simone\, Stevie Wonder\, Archie Shepp\, Eddie Harris\, Donny Hathaway\, Paul Simon\, Ntozake Shange\, Nona Hendryx\, Neneh Cherry\, Lester Bowie\, Hamiet Bluiett\, Malachi Favors\, Billy Bang\, Gene Ammons\, to name a few. He is also the former chairman of the Association for the Advancement of Creative Musicians (AACM)\, and has recorded on over 100 acclaimed projects\, and founded and leads the legendary Ethnic Heritage Ensemble and Ritual Trio. \nDavid Murray is considered to be the most influential tenor saxophonist of his generation. He has recorded more than 300 acclaimed projects. He has worked with many of the giants\, such as Max Roach\, Charles Mingus\, Cecil Taylor\, Jack DeJohnette\, Chico Hamilton\, Elvin Jones\, Archie Shepp\, Pharoah Sanders\, and Randy Weston\, He is co-founder of the World Saxophone Quartet\, and leads the famed David Murray Quartet\, David Murray \nOctet\, and the David Murray Big Band. Dr. Murray was awarded a PHD in the Arts from Claremont College\, and is also a Guggenheim Fellow and a Fulbright Scholar. Mr. Murray has won 2 Grammys and is the prestigious recipient of the Jazz Par Award from the country of Denmark. \nIn addition\, there will be an opening set by Juno-winning Vancouver guitarist Gordon Grdina. \nThis performance is presented by Infidels Jazz\, with the support of the VSO School of Music. \nBUY TICKETS TODAY
URL:https://theinfidelsjazz.ca/event/kahil-elzabar-david-murray-at-pyatt-hall/
LOCATION:Pyatt Hall\, 843 Seymour Street\, Vancouver\, British Columbia\, V6B 3L4\, Canada
CATEGORIES:Concert
ATTACH;FMTTYPE=image/png:https://theinfidelsjazz.ca/wp-content/uploads/2024/05/KAHIL.png
END:VEVENT
END:VCALENDAR