BEGIN:VCALENDAR
VERSION:2.0
PRODID:-//Infidels Jazz - ECPv6.15.12.2//NONSGML v1.0//EN
CALSCALE:GREGORIAN
METHOD:PUBLISH
X-WR-CALNAME:Infidels Jazz
X-ORIGINAL-URL:https://theinfidelsjazz.ca
X-WR-CALDESC:Events for Infidels Jazz
REFRESH-INTERVAL;VALUE=DURATION:PT1H
X-Robots-Tag:noindex
X-PUBLISHED-TTL:PT1H
BEGIN:VTIMEZONE
TZID:America/Vancouver
BEGIN:DAYLIGHT
TZOFFSETFROM:-0800
TZOFFSETTO:-0700
TZNAME:PDT
DTSTART:20230312T100000
END:DAYLIGHT
BEGIN:STANDARD
TZOFFSETFROM:-0700
TZOFFSETTO:-0800
TZNAME:PST
DTSTART:20231105T090000
END:STANDARD
BEGIN:DAYLIGHT
TZOFFSETFROM:-0800
TZOFFSETTO:-0700
TZNAME:PDT
DTSTART:20240310T100000
END:DAYLIGHT
BEGIN:STANDARD
TZOFFSETFROM:-0700
TZOFFSETTO:-0800
TZNAME:PST
DTSTART:20241103T090000
END:STANDARD
BEGIN:DAYLIGHT
TZOFFSETFROM:-0800
TZOFFSETTO:-0700
TZNAME:PDT
DTSTART:20250309T100000
END:DAYLIGHT
BEGIN:STANDARD
TZOFFSETFROM:-0700
TZOFFSETTO:-0800
TZNAME:PST
DTSTART:20251102T090000
END:STANDARD
END:VTIMEZONE
BEGIN:VEVENT
DTSTART;TZID=America/Vancouver:20240614T230000
DTEND;TZID=America/Vancouver:20240615T010000
DTSTAMP:20260423T110202
CREATED:20240613T052940Z
LAST-MODIFIED:20241012T180346Z
UID:995-1718406000-1718413200@theinfidelsjazz.ca
SUMMARY:Ben Millman Trio at Frankie's After Dark
DESCRIPTION:Benjamin Millman is a pianist\, producer and multi instrumentalist hailing from Vancouver BC. The son of two musicians\, he’s been playing and creating in the Vancouver scene since he was a child\, and recently completed his bachelor’s degree in Jazz Performance/Composition with a major in Jazz Piano from Capilano University. Specializing in a large range of genres and instruments\, Benjamin’s performance credits are vast – you may have heard him leading RnB\, Funk\, Pop or Jazz groups at countless Vancouver venues such as the Vogue and the Fox Cabaret\, singing in choirs to sold out crowds at the Rogers Arena and PNE Forum Stage\, or touring with a variety of different acts on the keys\, guitar or percussion around Canada and the US. His mission is to make honest\, artful\, and groovy music\, and to pay homage to the great legacy of the Black American and African Diasporic Music he loves!\nFor this Frankie’s After Dark performance the trio features Benjamin Millman on piano\, Wynston Minckler on bass\, and Karl DeJong on drums.\nFrankie’s After Dark takes place every Friday and Saturday at Frankie’s Jazz Club in downtown Vancouver and is curated by Tim Reinert of Infidels Jazz. Shows start at 11:00PM and tickets are $10.
URL:https://theinfidelsjazz.ca/event/ben-millman-trio-at-frankies-after-dark/
LOCATION:Frankie’s Jazz Club\, 755 Beatty St\, Vancouver\, British Columbia\, V6B 2M4\, Canada
CATEGORIES:Concert
ATTACH;FMTTYPE=image/jpeg:https://theinfidelsjazz.ca/wp-content/uploads/2024/06/Ben-MIllman.jpg
END:VEVENT
END:VCALENDAR