BEGIN:VCALENDAR
VERSION:2.0
PRODID:-//Infidels Jazz - ECPv6.15.12.2//NONSGML v1.0//EN
CALSCALE:GREGORIAN
METHOD:PUBLISH
X-ORIGINAL-URL:https://theinfidelsjazz.ca
X-WR-CALDESC:Events for Infidels Jazz
REFRESH-INTERVAL;VALUE=DURATION:PT1H
X-Robots-Tag:noindex
X-PUBLISHED-TTL:PT1H
BEGIN:VTIMEZONE
TZID:America/Vancouver
BEGIN:DAYLIGHT
TZOFFSETFROM:-0800
TZOFFSETTO:-0700
TZNAME:PDT
DTSTART:20230312T100000
END:DAYLIGHT
BEGIN:STANDARD
TZOFFSETFROM:-0700
TZOFFSETTO:-0800
TZNAME:PST
DTSTART:20231105T090000
END:STANDARD
BEGIN:DAYLIGHT
TZOFFSETFROM:-0800
TZOFFSETTO:-0700
TZNAME:PDT
DTSTART:20240310T100000
END:DAYLIGHT
BEGIN:STANDARD
TZOFFSETFROM:-0700
TZOFFSETTO:-0800
TZNAME:PST
DTSTART:20241103T090000
END:STANDARD
BEGIN:DAYLIGHT
TZOFFSETFROM:-0800
TZOFFSETTO:-0700
TZNAME:PDT
DTSTART:20250309T100000
END:DAYLIGHT
BEGIN:STANDARD
TZOFFSETFROM:-0700
TZOFFSETTO:-0800
TZNAME:PST
DTSTART:20251102T090000
END:STANDARD
END:VTIMEZONE
BEGIN:VEVENT
DTSTART;TZID=America/Vancouver:20240413T230000
DTEND;TZID=America/Vancouver:20240414T010000
DTSTAMP:20260423T102511
CREATED:20240326T104138Z
LAST-MODIFIED:20241012T175317Z
UID:857-1713049200-1713056400@theinfidelsjazz.ca
SUMMARY:Julian Jayme Trio at Frankie's After Dark
DESCRIPTION:Julian Jayme is a Vancouver-based guitarist\, vocalist\, bassist\, composer and teacher. Spending nearly half his lifetime studying music\, he has attended Capilano University\, Berklee College of Music and McGill University and has had the opportunity to perform and collaborate with many different types of musicians as well as study with some of his heroes such as Terence Blanchard\, Ambrose Akinmusire\, John Hollenbeck and Jean-Michel Pilc. In 2016 and 2017\, Julian had the opportunity to take part in the Boysie Lowery Living Jazz Residency in Wilmington\, DE\, where he was fortunate to workshop his compositions with some of his favourite musicians\, including Aaron Parks\, Aaron Goldberg and Ari Hoenig\, as well as meet some of the top up-and-coming jazz musicians in the United States. Coming from an eclectic background\, Julian blends the musical influences of his past with the Jazz music of his present\, most notably so in his group “Julian Jayme: City Folk”. As a performer\, he has played at venues all over Canada and the United States as well as been part of the pit band for several musical theater productions including (most recently) a 5-month run of Red Rock Diner produced by Drayton Entertainment in St Jacobs\, ON.\nFor this special After Dark performance\, he’ll be joined by Dan Howard on bass\, and John Lee on drums.\nFrankie’s After Dark takes place every Friday and Saturday at Frankie’s Jazz Club in downtown Vancouver and is curated by Tim Reinert of Infidels Jazz. Shows start at 11:00PM and tickets are $10.
URL:https://theinfidelsjazz.ca/event/julian-jayme-trio-at-frankies-after-dark/
LOCATION:Frankie’s Jazz Club\, 755 Beatty St\, Vancouver\, British Columbia\, V6B 2M4\, Canada
CATEGORIES:Concert
ATTACH;FMTTYPE=image/jpeg:https://theinfidelsjazz.ca/wp-content/uploads/2024/03/JULIAN.jpeg
END:VEVENT
END:VCALENDAR