BEGIN:VCALENDAR
VERSION:2.0
PRODID:-//Infidels Jazz - ECPv6.15.12.2//NONSGML v1.0//EN
CALSCALE:GREGORIAN
METHOD:PUBLISH
X-ORIGINAL-URL:https://theinfidelsjazz.ca
X-WR-CALDESC:Events for Infidels Jazz
REFRESH-INTERVAL;VALUE=DURATION:PT1H
X-Robots-Tag:noindex
X-PUBLISHED-TTL:PT1H
BEGIN:VTIMEZONE
TZID:America/Vancouver
BEGIN:DAYLIGHT
TZOFFSETFROM:-0800
TZOFFSETTO:-0700
TZNAME:PDT
DTSTART:20230312T100000
END:DAYLIGHT
BEGIN:STANDARD
TZOFFSETFROM:-0700
TZOFFSETTO:-0800
TZNAME:PST
DTSTART:20231105T090000
END:STANDARD
BEGIN:DAYLIGHT
TZOFFSETFROM:-0800
TZOFFSETTO:-0700
TZNAME:PDT
DTSTART:20240310T100000
END:DAYLIGHT
BEGIN:STANDARD
TZOFFSETFROM:-0700
TZOFFSETTO:-0800
TZNAME:PST
DTSTART:20241103T090000
END:STANDARD
BEGIN:DAYLIGHT
TZOFFSETFROM:-0800
TZOFFSETTO:-0700
TZNAME:PDT
DTSTART:20250309T100000
END:DAYLIGHT
BEGIN:STANDARD
TZOFFSETFROM:-0700
TZOFFSETTO:-0800
TZNAME:PST
DTSTART:20251102T090000
END:STANDARD
END:VTIMEZONE
BEGIN:VEVENT
DTSTART;TZID=America/Vancouver:20240323T200000
DTEND;TZID=America/Vancouver:20240323T230000
DTSTAMP:20260423T014338
CREATED:20240307T015641Z
LAST-MODIFIED:20241012T175439Z
UID:822-1711224000-1711234800@theinfidelsjazz.ca
SUMMARY:Blue Giant
DESCRIPTION:Revered pianist Hiromi Uehar composed the score for this electrifying jazz anime\, a movie which makes no apology for its obsession with the sound and fury of musical ferment. It’s the story of Dai\, a young man who decides he’s going to to be the next John Coltrane. He leaves his sleepy hometown for the crowded nightclubs of Tokyo\, and eventually forms a trio — Jass — with pianist Yukinori and drummer Shunji. But do they have what it takes to make it? \nThe director Yuzuru Tachikawa has described the filim as “a concert in the theatre”\, and that’s right: this movie is all about applying animation to express musicality. Which is why this is the definitive jazz movie of the last decade. \n Mar 23: Screening will be preceded by a free 30-minute set in the atrium by Erika Chow’s Blue Giant Trio at 7:30 pm \nThe film beautifully captures the power of live performance\, the passion and intensity woven into the fabric of jazz\, and most impressively the way they pour their life experiences into their art. So the key for each of them as they develop as musicians is to bare their souls. This is bold\, thrilling\, powerfully moving storytelling. \nRich Cline\, Shadows on the Wall \nBursting off the screen in a cacophony of improvised jam sessions and electrifying solo performances\, Blue Giant proves an intoxicating kaleidoscope of ambition\, passion\, sacrifice and all that jazz. \nJames Marsh\, South China Morning Post \nBlue Giant is as improbably close to watching a live performance as animation can get. A swooning big-screen experience. \nTara Brady\, The Irish Times \nBook Tickets Today
URL:https://theinfidelsjazz.ca/event/blue-giant/
LOCATION:VIFF Centre\, 1181 Seymour Street\, Vancouver\, BC\, V6B 3M7\, Canada
CATEGORIES:Concert,Film
ATTACH;FMTTYPE=image/png:https://theinfidelsjazz.ca/wp-content/uploads/2024/03/BLUE_GIANT.png
END:VEVENT
BEGIN:VEVENT
DTSTART;TZID=America/Vancouver:20240323T230000
DTEND;TZID=America/Vancouver:20240324T013000
DTSTAMP:20260423T014338
CREATED:20240301T000951Z
LAST-MODIFIED:20241012T175429Z
UID:798-1711234800-1711243800@theinfidelsjazz.ca
SUMMARY:Todd Stewart at Frankie's
DESCRIPTION:Todd Stewart has made a name for himself as one of the most adventurous drummers in the local “jazz” scene. This set will feature his brand new trio\, with some of the most forward-thinking musicians in all of Canada\, performing together for the very first time. It will be a night of freely-improvised excursions into soundscapes\, grooves and whatever else may take shape. Not to be missed.\nFeaturing:\nGordy Li – EWI and electronics\nJames Meger – Electric bass and electronics\nTodd Stewart – Drum set\nFrankie’s After Dark takes place every Friday and Saturday at Frankie’s Jazz Club in downtown Vancouver and is curated by Tim Reinert of Infidels Jazz. Shows start at 11:00PM and tickets are $10.
URL:https://theinfidelsjazz.ca/event/todd-stewart-at-frankies/
LOCATION:Frankie’s Jazz Club\, 755 Beatty St\, Vancouver\, British Columbia\, V6B 2M4\, Canada
CATEGORIES:Concert
ATTACH;FMTTYPE=image/png:https://theinfidelsjazz.ca/wp-content/uploads/2024/02/03.23.24.png
END:VEVENT
END:VCALENDAR