BEGIN:VCALENDAR
VERSION:2.0
PRODID:-//Infidels Jazz - ECPv6.15.12.2//NONSGML v1.0//EN
CALSCALE:GREGORIAN
METHOD:PUBLISH
X-WR-CALNAME:Infidels Jazz
X-ORIGINAL-URL:https://theinfidelsjazz.ca
X-WR-CALDESC:Events for Infidels Jazz
REFRESH-INTERVAL;VALUE=DURATION:PT1H
X-Robots-Tag:noindex
X-PUBLISHED-TTL:PT1H
BEGIN:VTIMEZONE
TZID:America/Vancouver
BEGIN:DAYLIGHT
TZOFFSETFROM:-0800
TZOFFSETTO:-0700
TZNAME:PDT
DTSTART:20230312T100000
END:DAYLIGHT
BEGIN:STANDARD
TZOFFSETFROM:-0700
TZOFFSETTO:-0800
TZNAME:PST
DTSTART:20231105T090000
END:STANDARD
BEGIN:DAYLIGHT
TZOFFSETFROM:-0800
TZOFFSETTO:-0700
TZNAME:PDT
DTSTART:20240310T100000
END:DAYLIGHT
BEGIN:STANDARD
TZOFFSETFROM:-0700
TZOFFSETTO:-0800
TZNAME:PST
DTSTART:20241103T090000
END:STANDARD
BEGIN:DAYLIGHT
TZOFFSETFROM:-0800
TZOFFSETTO:-0700
TZNAME:PDT
DTSTART:20250309T100000
END:DAYLIGHT
BEGIN:STANDARD
TZOFFSETFROM:-0700
TZOFFSETTO:-0800
TZNAME:PST
DTSTART:20251102T090000
END:STANDARD
END:VTIMEZONE
BEGIN:VEVENT
DTSTART;TZID=America/Vancouver:20240316T230000
DTEND;TZID=America/Vancouver:20240317T013000
DTSTAMP:20260423T030600
CREATED:20240301T000630Z
LAST-MODIFIED:20241012T175533Z
UID:796-1710630000-1710639000@theinfidelsjazz.ca
SUMMARY:The Blazing Eraz at Frankie's
DESCRIPTION:The Blazing Eraz is a platform created by Tim Proznick that represents the eras of music and artists that have helped shape his musical journey into what it is today. Having grown up in a family of jazz enthusiasts\, players\, and educators\, it has been the single\, most consistent thing in his life. His appreciation comes from building a solid foundation in the many idioms of jazz\, from BeBop like Miles & Coltrane\, Basie Bigband\, ECM from Abercrombie/Metheny\, Fusion of Sco/McLaughlin\, to new artists pushing the envelope such as Glasper\, Yussef Kamaal\, Chris Dave\, & Thundercat.\nWith these foundations\, the aim is to take the knowledge and wisdom received from a lifetime of listening\, and applying it into new\, modern forms of music through musical experimentation and exploration\, without the borders of the “traditionalist”\, while incorporating it to new technology & culture. From here\, inspiration is drawn from the influence of hiphop culture as a whole\, as well as electronic music and production\, Funk\, & world music ranging from Brazilian\, Cuban\, Afrobeat(s)\, and reggae.\nThe Blazing Eraz will be playing original compositions\, as well as trio renditions from Flying Lotus\, Madlib\, Chick Corea\, and others.\nTim Proznick will be performing on the drum kit\, as well as exploring sounds & grooves on Native Instruments Maschine Sampler. Joining him will be some of his favourite musicians to work with\, Tristan Paxton on Guitar\, and Issah Contractor on both Bass & Drums.\nFrankie’s After Dark takes place every Friday and Saturday at Frankie’s Jazz Club in downtown Vancouver and is curated by Tim Reinert of Infidels Jazz. Shows start at 11:00PM and tickets are $10.
URL:https://theinfidelsjazz.ca/event/the-blazing-eraz-at-frankies/
LOCATION:Frankie’s Jazz Club\, 755 Beatty St\, Vancouver\, British Columbia\, V6B 2M4\, Canada
CATEGORIES:Concert
ATTACH;FMTTYPE=image/png:https://theinfidelsjazz.ca/wp-content/uploads/2024/02/03.16.24.png
END:VEVENT
END:VCALENDAR