BEGIN:VCALENDAR
VERSION:2.0
PRODID:-//Infidels Jazz - ECPv6.15.12.2//NONSGML v1.0//EN
CALSCALE:GREGORIAN
METHOD:PUBLISH
X-ORIGINAL-URL:https://theinfidelsjazz.ca
X-WR-CALDESC:Events for Infidels Jazz
REFRESH-INTERVAL;VALUE=DURATION:PT1H
X-Robots-Tag:noindex
X-PUBLISHED-TTL:PT1H
BEGIN:VTIMEZONE
TZID:America/Vancouver
BEGIN:DAYLIGHT
TZOFFSETFROM:-0800
TZOFFSETTO:-0700
TZNAME:PDT
DTSTART:20230312T100000
END:DAYLIGHT
BEGIN:STANDARD
TZOFFSETFROM:-0700
TZOFFSETTO:-0800
TZNAME:PST
DTSTART:20231105T090000
END:STANDARD
BEGIN:DAYLIGHT
TZOFFSETFROM:-0800
TZOFFSETTO:-0700
TZNAME:PDT
DTSTART:20240310T100000
END:DAYLIGHT
BEGIN:STANDARD
TZOFFSETFROM:-0700
TZOFFSETTO:-0800
TZNAME:PST
DTSTART:20241103T090000
END:STANDARD
BEGIN:DAYLIGHT
TZOFFSETFROM:-0800
TZOFFSETTO:-0700
TZNAME:PDT
DTSTART:20250309T100000
END:DAYLIGHT
BEGIN:STANDARD
TZOFFSETFROM:-0700
TZOFFSETTO:-0800
TZNAME:PST
DTSTART:20251102T090000
END:STANDARD
END:VTIMEZONE
BEGIN:VEVENT
DTSTART;TZID=America/Vancouver:20240310T140000
DTEND;TZID=America/Vancouver:20240310T160000
DTSTAMP:20260423T030824
CREATED:20240203T080209Z
LAST-MODIFIED:20241012T174841Z
UID:754-1710079200-1710086400@theinfidelsjazz.ca
SUMMARY:Ostara Project - Roots & Wings
DESCRIPTION:In a genre and industry where women have been severely underrepresented\, the Ostara Project is a beautiful example of perseverance\, community\, and a deep love for the music. New growth rising out of darkness\, stretching for new life\, propelled by hope. This is the music of Ostara. \nFor this special Vancouver performance\, Ostara will be represented by: \nAllison Au – saxophones \nRachel Therrien – trumpet/flugelhorn \nAmanda Tosoff – piano \nJodi Proznick – bass \nValérie Lacombe – drums \nwith very special vocal guests: \nDawn Pemberton \nShruti Ramani \nTerri-Lynn Williams Davidson \nLaila Biali \nBuy tickets today
URL:https://theinfidelsjazz.ca/event/ostara-project-roots-wings/
LOCATION:Magee Secondary Auditorium\, 6360 Maple St\, Vancouver\, British Columbia\, V6M 4M2\, Canada
CATEGORIES:Concert
ATTACH;FMTTYPE=image/png:https://theinfidelsjazz.ca/wp-content/uploads/2024/01/Ostara-RootsandWingsConcert-Mar10-Poster-WEBPROOF-1.png
END:VEVENT
END:VCALENDAR