BEGIN:VCALENDAR
VERSION:2.0
PRODID:-//Infidels Jazz - ECPv6.15.12.2//NONSGML v1.0//EN
CALSCALE:GREGORIAN
METHOD:PUBLISH
X-WR-CALNAME:Infidels Jazz
X-ORIGINAL-URL:https://theinfidelsjazz.ca
X-WR-CALDESC:Events for Infidels Jazz
REFRESH-INTERVAL;VALUE=DURATION:PT1H
X-Robots-Tag:noindex
X-PUBLISHED-TTL:PT1H
BEGIN:VTIMEZONE
TZID:America/Vancouver
BEGIN:DAYLIGHT
TZOFFSETFROM:-0800
TZOFFSETTO:-0700
TZNAME:PDT
DTSTART:20230312T100000
END:DAYLIGHT
BEGIN:STANDARD
TZOFFSETFROM:-0700
TZOFFSETTO:-0800
TZNAME:PST
DTSTART:20231105T090000
END:STANDARD
BEGIN:DAYLIGHT
TZOFFSETFROM:-0800
TZOFFSETTO:-0700
TZNAME:PDT
DTSTART:20240310T100000
END:DAYLIGHT
BEGIN:STANDARD
TZOFFSETFROM:-0700
TZOFFSETTO:-0800
TZNAME:PST
DTSTART:20241103T090000
END:STANDARD
BEGIN:DAYLIGHT
TZOFFSETFROM:-0800
TZOFFSETTO:-0700
TZNAME:PDT
DTSTART:20250309T100000
END:DAYLIGHT
BEGIN:STANDARD
TZOFFSETFROM:-0700
TZOFFSETTO:-0800
TZNAME:PST
DTSTART:20251102T090000
END:STANDARD
END:VTIMEZONE
BEGIN:VEVENT
DTSTART;TZID=America/Vancouver:20240308T190000
DTEND;TZID=America/Vancouver:20240308T213000
DTSTAMP:20260423T030618
CREATED:20231222T024253Z
LAST-MODIFIED:20241012T174907Z
UID:668-1709924400-1709933400@theinfidelsjazz.ca
SUMMARY:Dean Thiessen Stranger Friends Orchestra at the Fox
DESCRIPTION:The STRANGER FRIENDS Orchestra is a 15-piece modern big band led by composer Dean Thiessen. The phrase ‘Stranger Friends’ evokes an awareness of the community that can be established through music and music making. The ensemble is comprised of some of the most creative and inspiring young voices in the West Coast music scene. The ensemble is grateful to rehearse\, compose\, and perform on the unceded territories of the xʷməθkʷəy̓əm (Musqueam)\, Sḵwx̱wú7mesh (Squamish)\, and Sel̓íl̓witulh (Tsleil-Waututh) Nations. \nThiessen’s original music for this band is rooted in curiosity\, collaboration\, inclusion\, creativity\, and diversity and explores a mixture of hyper-detailed compositions and spontaneous improvisation. With little resemblance of the ‘swing era’ big band sound\, the STRANGER FRIENDS Orchestra explores a mixture of modern musical and cultural influences inspired by traditions of the great African American musicians who created ‘jazz’ as an art form and the youthfulness and innovation of the musicians in the ensemble. \nShow starts at 7:00PM sharp\, and will be finished by 9:30PM. \nBuy tickets today
URL:https://theinfidelsjazz.ca/event/dean-thiessen-stranger-friends-orchestra-at-the-fox/
LOCATION:The Fox Cabaret\, 2321 Main Street\, Vancouver\, British Columbia\, V5T 3C9\, Canada
CATEGORIES:Concert
ATTACH;FMTTYPE=image/png:https://theinfidelsjazz.ca/wp-content/uploads/2023/12/dean15-1.png
END:VEVENT
BEGIN:VEVENT
DTSTART;TZID=America/Vancouver:20240308T230000
DTEND;TZID=America/Vancouver:20240309T013000
DTSTAMP:20260423T030618
CREATED:20240301T000105Z
LAST-MODIFIED:20241012T174858Z
UID:790-1709938800-1709947800@theinfidelsjazz.ca
SUMMARY:Wrabbit Hunting with the Isaac Story Trio - Frankie's
DESCRIPTION:Wrabbit Hunting with the Isaac Story Trio\nAlong with his 2 pals Jordy McIntosh (Drums)\, and Connor Lum (Alto)\, The Isaac Story trio is excited to bring to you an evening of music. With the power of friendship these 3 will navigate through a mix of original compositions and standard jazz tunes.\nFrankie’s After Dark takes place every Friday and Saturday at Frankie’s Jazz Club in downtown Vancouver and is curated by Tim Reinert of Infidels Jazz. Shows start at 11:00PM and tickets are $10.
URL:https://theinfidelsjazz.ca/event/wrabbit-hunting-with-the-isaac-story-trio-frankies/
LOCATION:Frankie’s Jazz Club\, 755 Beatty St\, Vancouver\, British Columbia\, V6B 2M4\, Canada
CATEGORIES:Concert
ATTACH;FMTTYPE=image/png:https://theinfidelsjazz.ca/wp-content/uploads/2024/02/03_08_24.png
END:VEVENT
END:VCALENDAR