BEGIN:VCALENDAR
VERSION:2.0
PRODID:-//Infidels Jazz - ECPv6.15.12.2//NONSGML v1.0//EN
CALSCALE:GREGORIAN
METHOD:PUBLISH
X-ORIGINAL-URL:https://theinfidelsjazz.ca
X-WR-CALDESC:Events for Infidels Jazz
REFRESH-INTERVAL;VALUE=DURATION:PT1H
X-Robots-Tag:noindex
X-PUBLISHED-TTL:PT1H
BEGIN:VTIMEZONE
TZID:America/Vancouver
BEGIN:DAYLIGHT
TZOFFSETFROM:-0800
TZOFFSETTO:-0700
TZNAME:PDT
DTSTART:20230312T100000
END:DAYLIGHT
BEGIN:STANDARD
TZOFFSETFROM:-0700
TZOFFSETTO:-0800
TZNAME:PST
DTSTART:20231105T090000
END:STANDARD
BEGIN:DAYLIGHT
TZOFFSETFROM:-0800
TZOFFSETTO:-0700
TZNAME:PDT
DTSTART:20240310T100000
END:DAYLIGHT
BEGIN:STANDARD
TZOFFSETFROM:-0700
TZOFFSETTO:-0800
TZNAME:PST
DTSTART:20241103T090000
END:STANDARD
BEGIN:DAYLIGHT
TZOFFSETFROM:-0800
TZOFFSETTO:-0700
TZNAME:PDT
DTSTART:20250309T100000
END:DAYLIGHT
BEGIN:STANDARD
TZOFFSETFROM:-0700
TZOFFSETTO:-0800
TZNAME:PST
DTSTART:20251102T090000
END:STANDARD
END:VTIMEZONE
BEGIN:VEVENT
DTSTART;TZID=America/Vancouver:20240306T193000
DTEND;TZID=America/Vancouver:20240306T223000
DTSTAMP:20260423T043010
CREATED:20240119T053609Z
LAST-MODIFIED:20241012T174914Z
UID:683-1709753400-1709764200@theinfidelsjazz.ca
SUMMARY:Allison Au\, Jodi Proznick\, and Mili Hong
DESCRIPTION:Allison Au\, Jodi Proznick\, and Mili Hong are three of Canada’s premier Jazz musicians\, bringing with them decades of performing and recording experience\, not to mention 5 Juno nominations and one win.\nOn March 06\, they will be celebrating the release of their first album as a trio\, “Dunbar Heights”\, recorded live last spring in Vancouver\, and released in February 2024 on the Infidels Jazz label. Join us for this rare Vancouver concert by this all-star trio.\nDoors: 7:30PM\nShow: 8:00PM\nTickets available via Eventbrite:\nhttps://www.eventbrite.com/…/infidels-presents-allison…
URL:https://theinfidelsjazz.ca/event/allison-au-jodi-proznick-and-mili-hong/
LOCATION:Chill x Studio\, 2270 Manitoba St\, Vancouver\, BC\, V5Y 1K2\, Canada
CATEGORIES:Concert
ATTACH;FMTTYPE=image/png:https://theinfidelsjazz.ca/wp-content/uploads/2024/01/ALLISON_AU_X.png
END:VEVENT
END:VCALENDAR