BEGIN:VCALENDAR
VERSION:2.0
PRODID:-//Infidels Jazz - ECPv6.15.12.2//NONSGML v1.0//EN
CALSCALE:GREGORIAN
METHOD:PUBLISH
X-WR-CALNAME:Infidels Jazz
X-ORIGINAL-URL:https://theinfidelsjazz.ca
X-WR-CALDESC:Events for Infidels Jazz
REFRESH-INTERVAL;VALUE=DURATION:PT1H
X-Robots-Tag:noindex
X-PUBLISHED-TTL:PT1H
BEGIN:VTIMEZONE
TZID:America/Vancouver
BEGIN:DAYLIGHT
TZOFFSETFROM:-0800
TZOFFSETTO:-0700
TZNAME:PDT
DTSTART:20230312T100000
END:DAYLIGHT
BEGIN:STANDARD
TZOFFSETFROM:-0700
TZOFFSETTO:-0800
TZNAME:PST
DTSTART:20231105T090000
END:STANDARD
BEGIN:DAYLIGHT
TZOFFSETFROM:-0800
TZOFFSETTO:-0700
TZNAME:PDT
DTSTART:20240310T100000
END:DAYLIGHT
BEGIN:STANDARD
TZOFFSETFROM:-0700
TZOFFSETTO:-0800
TZNAME:PST
DTSTART:20241103T090000
END:STANDARD
BEGIN:DAYLIGHT
TZOFFSETFROM:-0800
TZOFFSETTO:-0700
TZNAME:PDT
DTSTART:20250309T100000
END:DAYLIGHT
BEGIN:STANDARD
TZOFFSETFROM:-0700
TZOFFSETTO:-0800
TZNAME:PST
DTSTART:20251102T090000
END:STANDARD
END:VTIMEZONE
BEGIN:VEVENT
DTSTART;TZID=America/Vancouver:20240301T230000
DTEND;TZID=America/Vancouver:20240302T230000
DTSTAMP:20260423T041700
CREATED:20240229T235553Z
LAST-MODIFIED:20241012T174940Z
UID:772-1709334000-1709420400@theinfidelsjazz.ca
SUMMARY:Mili Hong Quartet at Frankie's
DESCRIPTION:Mili Hong is a Montreal-based Korean drummer who has been playing various styles of music\, including jazz\, pop\, improvised music\, rock\, and folk\, for over a decade. Her ability to adapt to different types of music\, with a keen sensitivity to dynamics\, allows her to express a wide range of emotions and connect more deeply with the bands she collaborates with.\nFor this special After Dark performance she’ll be joined by:\nLisa Cay Miller – Piano\nGordy Li – Saxophone\nEli Davidovici – Bass\n\nFrankie’s After Dark takes place every Friday and Saturday at Frankie’s Jazz Club in downtown Vancouver and is curated by Tim Reinert of Infidels Jazz. Shows start at 11:00PM and tickets are $10.
URL:https://theinfidelsjazz.ca/event/mili-hong-quartet-at-frankies/
LOCATION:Frankie’s Jazz Club\, 755 Beatty St\, Vancouver\, British Columbia\, V6B 2M4\, Canada
CATEGORIES:Concert
ATTACH;FMTTYPE=image/png:https://theinfidelsjazz.ca/wp-content/uploads/2024/02/03.01.24.png
END:VEVENT
BEGIN:VEVENT
DTSTART;TZID=America/Vancouver:20240302T200000
DTEND;TZID=America/Vancouver:20240302T233000
DTSTAMP:20260423T041700
CREATED:20240202T045838Z
LAST-MODIFIED:20241012T174932Z
UID:701-1709409600-1709422200@theinfidelsjazz.ca
SUMMARY:Peregrine Falls
DESCRIPTION:This will be the first official Peregrine Falls show in 6 years!\n\nGordon Grdina and Kenton Loewen tease out the heavy handed improv with sticks and guitar strings. Lacerating riffs curl out like black smoke\, drums tumbling erratic like a head-on locomotive collision. Witness inspired expertise in form of mathy sludge.\n\nThis event is on March 02 at All-City Athletics at 130 W. Hastings in the Alley Entrance\, and is presented by Tim Reinert of Infidels Jazz.\n\nP. S. This will be LOUD.
URL:https://theinfidelsjazz.ca/event/peregrine-falls/
LOCATION:All-City Athletics\, 130 West Hastings\, alley entrance\, Vancouver\, BC\, V6B 1G9\, Canada
CATEGORIES:Concert
ATTACH;FMTTYPE=image/png:https://theinfidelsjazz.ca/wp-content/uploads/2024/02/peregrine.png
END:VEVENT
BEGIN:VEVENT
DTSTART;TZID=America/Vancouver:20240302T230000
DTEND;TZID=America/Vancouver:20240303T013000
DTSTAMP:20260423T041700
CREATED:20240229T235843Z
LAST-MODIFIED:20241012T174923Z
UID:788-1709420400-1709429400@theinfidelsjazz.ca
SUMMARY:Eli's Double Dan Trio at Frankie's
DESCRIPTION:Eli Davidovici has been working as a bassist and composer in Vancouver and Montreal for over a decade\, collaborating with established and emerging musicians in the Jazz/Creative/Folk/Indie scenes and contributing his own unique voice to the cities’ diverse musical landscapes. While making a name for himself as a sideman\, playing bass on records by Ben Frost\, Jean-Michel Leblanc\, Kim Albert and others\, his work as a composer can be heard in Vancouver band Moondle\, Montreal band Bellbird\, and on his debut album\, “Shapes”\, which was released in March of 2023. He now resides in Montreal\, where he is obtaining his Master’s degree in Jazz Performance from Mcgill University.\nFor this special After Dark performance he’ll be joined by Two Dans:\nDan Reynolds – Piano\nDan Gaucher – Drums\nFrankie’s After Dark takes place every Friday and Saturday at Frankie’s Jazz Club in downtown Vancouver and is curated by Tim Reinert of Infidels Jazz. Shows start at 11:00PM and tickets are $10.
URL:https://theinfidelsjazz.ca/event/elis-double-dan-trio-at-frankies/
LOCATION:Frankie’s Jazz Club\, 755 Beatty St\, Vancouver\, British Columbia\, V6B 2M4\, Canada
CATEGORIES:Concert
ATTACH;FMTTYPE=image/png:https://theinfidelsjazz.ca/wp-content/uploads/2024/02/03.02.24.png
END:VEVENT
END:VCALENDAR