BEGIN:VCALENDAR
VERSION:2.0
PRODID:-//Infidels Jazz - ECPv6.15.12.2//NONSGML v1.0//EN
CALSCALE:GREGORIAN
METHOD:PUBLISH
X-WR-CALNAME:Infidels Jazz
X-ORIGINAL-URL:https://theinfidelsjazz.ca
X-WR-CALDESC:Events for Infidels Jazz
REFRESH-INTERVAL;VALUE=DURATION:PT1H
X-Robots-Tag:noindex
X-PUBLISHED-TTL:PT1H
BEGIN:VTIMEZONE
TZID:America/Vancouver
BEGIN:DAYLIGHT
TZOFFSETFROM:-0800
TZOFFSETTO:-0700
TZNAME:PDT
DTSTART:20230312T100000
END:DAYLIGHT
BEGIN:STANDARD
TZOFFSETFROM:-0700
TZOFFSETTO:-0800
TZNAME:PST
DTSTART:20231105T090000
END:STANDARD
BEGIN:DAYLIGHT
TZOFFSETFROM:-0800
TZOFFSETTO:-0700
TZNAME:PDT
DTSTART:20240310T100000
END:DAYLIGHT
BEGIN:STANDARD
TZOFFSETFROM:-0700
TZOFFSETTO:-0800
TZNAME:PST
DTSTART:20241103T090000
END:STANDARD
BEGIN:DAYLIGHT
TZOFFSETFROM:-0800
TZOFFSETTO:-0700
TZNAME:PDT
DTSTART:20250309T100000
END:DAYLIGHT
BEGIN:STANDARD
TZOFFSETFROM:-0700
TZOFFSETTO:-0800
TZNAME:PST
DTSTART:20251102T090000
END:STANDARD
END:VTIMEZONE
BEGIN:VEVENT
DTSTART;TZID=America/Vancouver:20240119T230000
DTEND;TZID=America/Vancouver:20240120T003000
DTSTAMP:20260423T154947
CREATED:20231222T023153Z
LAST-MODIFIED:20241012T174541Z
UID:659-1705705200-1705710600@theinfidelsjazz.ca
SUMMARY:Noah Franche-Nolan with Andrea Wong\, and Adrian Avendaño
DESCRIPTION:This ensemble is excited to perform Franche-Nolan’s latest suite of music entitled Orbits. The suite is a musical and thematic exploration of inter-related cycles.\nNoah Franche-Nolan is a Canadian pianist\, improviser\, and composer. He leads his own trio\, is the pianist for Indo-Jazz Fusion band Raagaverse\, writes for film. Andrea Wong is a sound designer and new media artist based in Vancouver and Calgary. Her practice currently explores technology\, immersive experiences\, and free improvisation. Adrian Avendaño is a sound artist\, improvising percussionist\, and recordist of Peruvian and Chilean heritage\, based in Vancouver [stolen First Nation territories of the xʷməθkʷəy̓əm (Musqueam)\, Sḵwx̱wú7mesh (Squamish)\, and səlilwətaɬ (Tsleil-Waututh) nations].\nFrankie’s After Dark takes place every Friday and Saturday at Frankie’s Jazz Club in downtown Vancouver and is curated by Tim Reinert of Infidels Jazz. Shows start at 11:00PM and tickets are $10.
URL:https://theinfidelsjazz.ca/event/noah-franche-nolan-with-andrea-wong-and-adrian-avendano/
LOCATION:Frankie’s Jazz Club\, 755 Beatty St\, Vancouver\, British Columbia\, V6B 2M4\, Canada
CATEGORIES:Concert
ATTACH;FMTTYPE=image/png:https://theinfidelsjazz.ca/wp-content/uploads/2023/12/01.19.24.png
END:VEVENT
END:VCALENDAR