BEGIN:VCALENDAR
VERSION:2.0
PRODID:-//Infidels Jazz - ECPv6.15.12.2//NONSGML v1.0//EN
CALSCALE:GREGORIAN
METHOD:PUBLISH
X-WR-CALNAME:Infidels Jazz
X-ORIGINAL-URL:https://theinfidelsjazz.ca
X-WR-CALDESC:Events for Infidels Jazz
REFRESH-INTERVAL;VALUE=DURATION:PT1H
X-Robots-Tag:noindex
X-PUBLISHED-TTL:PT1H
BEGIN:VTIMEZONE
TZID:America/Vancouver
BEGIN:DAYLIGHT
TZOFFSETFROM:-0800
TZOFFSETTO:-0700
TZNAME:PDT
DTSTART:20220313T100000
END:DAYLIGHT
BEGIN:STANDARD
TZOFFSETFROM:-0700
TZOFFSETTO:-0800
TZNAME:PST
DTSTART:20221106T090000
END:STANDARD
BEGIN:DAYLIGHT
TZOFFSETFROM:-0800
TZOFFSETTO:-0700
TZNAME:PDT
DTSTART:20230312T100000
END:DAYLIGHT
BEGIN:STANDARD
TZOFFSETFROM:-0700
TZOFFSETTO:-0800
TZNAME:PST
DTSTART:20231105T090000
END:STANDARD
BEGIN:DAYLIGHT
TZOFFSETFROM:-0800
TZOFFSETTO:-0700
TZNAME:PDT
DTSTART:20240310T100000
END:DAYLIGHT
BEGIN:STANDARD
TZOFFSETFROM:-0700
TZOFFSETTO:-0800
TZNAME:PST
DTSTART:20241103T090000
END:STANDARD
END:VTIMEZONE
BEGIN:VEVENT
DTSTART;TZID=America/Vancouver:20231001T130000
DTEND;TZID=America/Vancouver:20231001T160000
DTSTAMP:20260424T081826
CREATED:20230901T213811Z
LAST-MODIFIED:20241012T173019Z
UID:393-1696165200-1696176000@theinfidelsjazz.ca
SUMMARY:Chris Gestrin Quartet with James Danderfer\, Jodi Proznick & Jesse Cahill
DESCRIPTION:For his first Hero’s Welcome show\, pianist and composer Chris Gestrin is joined by some of Vancouver’s most decorated Jazz musicians: James Danderfer on sax\, Jodi Proznick on bass\, and Jesse Cahill on drums.\n\nSundays at Hero’s Welcome (3917 Main Street) is a bi-weekly jazz series presented by Tim Reinert of Infidels Jazz. The concept is to provide an affordable way for jazz lovers of all ages to gather and celebrate this music we love.\n\nThe inspiration for this series comes from the long-running and much-missed Jazz at the Pat Saturday series curated by Roderick MacDonald & then Sharon Minemoto.\nAdmission is only $5. Please note the new time of 1PM.
URL:https://theinfidelsjazz.ca/event/chris-gestrin-quartet-with-james-danderfer-jodi-proznick-jesse-cahill/
LOCATION:Hero’s Welcome\, 3917 Main Street\, Vancouver\, BC\, V5V 3P2\, Canada
CATEGORIES:Concert
ATTACH;FMTTYPE=image/jpeg:https://theinfidelsjazz.ca/wp-content/uploads/2023/09/HW_1001.jpeg
END:VEVENT
END:VCALENDAR